Workbook

Sheet T1
B1: BÁO CÁO THU CHI QUỸ NỒI XÔI - BV THẬN HÀ NỘI
B2: THÁNG 01/2025
A4: NGÀY | B4: DIỄN GIẢI | C4: THU | D4: CHI | E4: KHOẢN MỤC
B5: DƯ ĐẦU KỲ | D5: 64990822
A6: 02/01 | B6: DINH THI QUYNH ANH uh | C6: 3000000 | E6: MTQ uh
A7: 03/01 | B7: KIM DUC TOAN uh | C7: 1000000 | E7: MTQ uh
A8: 05/01 | B8: NTCM ck tien thit cha ngay 4125 | D8: 2006000 | E8: Thịt/Chả
A9: 10/01 | B9: NGHIEM THU HUYEN uh | C9: 500000 | E9: MTQ uh
A10: 10/01 | B10: BUI THI VAN TRANG uh | C10: 200000 | E10: MTQ uh
A11: 10/01 | B11: Minh Nhat uh | C11: 300000 | E11: MTQ uh
A12: 12/01 | B12: NTCM ck tien thit cha ngay 1112025 | D12: 2060000 | E12: Thịt/Chả
A13: 18/01 | B13: NTCM ck tien thit cha ngay 181 | D13: 1855000 | E13: Thịt/Chả
A14: 19/01 | B14: Tra lai tien gui | C14: 5115 | E14: LÃI
A15: 20/01 | B15: quy du mua lan uh | C15: 200000 | E15: MTQ uh
A16: 20/01 | B16: U Dung uh | C16: 200000 | E16: MTQ uh
A17: 20/01 | B17: giang ngoc va ban uh | C17: 500000 | E17: MTQ uh
A18: 28/01 | B18: NGUYEN KIM DUNG uh | C18: 300000 | E18: MTQ uh
B19: TỔNG CỘNG | C19: =SUM(C6:C18) -> 6205115 | D19: =SUM(D6:D18) -> 5921000
B20: DƯ CUỐI KỲ | D20: =D5+C19-D19 -> 65274937

Sheet T2
B1: BÁO CÁO THU CHI QUỸ NỒI XÔI - BV THẬN HÀ NỘI
B2: THÁNG 02/2025
A4: NGÀY | B4: DIỄN GIẢI | C4: THU | D4: CHI | E4: KHOẢN MỤC
B5: DƯ ĐẦU KỲ | D5: ='T1'!D20 -> 65274937
A6: 03/02 | B6: Hieu Dao uh | C6: 500000 | E6: MTQ uh
A7: 09/02 | B7: THU LAN ck ung ho tu tien sua Oganut | C7: 120000 | E7: MTQ uh
A8: 09/02 | B8: TRUONG LE NHU QUYNH uh | C8: 200000 | E8: MTQ uh
A9: 09/02 | B9: TRUONG LE NHU QUYNH uh | C9: 5000 | E9: MTQ uh
A10: 13/02 | B10: Gd 180 Mai Anh Tuan uh | C10: 500000 | E10: MTQ uh
A11: 13/02 | B11: NGUYEN DIEU CHI MAI uh | C11: 300000 | E11: MTQ uh
A12: 14/02 | B12: SOUPS CHUYEN TIEN SANG XOI | C12: 2000000 | E12: MTQ uh
A13: 15/02 | B13: Gia dinh ba Nga Huy Ngoc Nhi Phong uh | C13: 1000000 | E13: MTQ uh
A14: 15/02 | B14: NGUYEN THI LUOT uh | C14: 200000 | E14: MTQ uh
A15: 16/02 | B15: Tra lai tien gui | C15: 5044 | E15: LÃI
A16: 16/02 | B16: NTCM ck tien thit cha ngay 152 | D16: 2010000 | E16: Thịt/Chả
A17: 21/02 | B17: Ba Ngo Thi Tuyet Ha Nam | C17: 500000 | E17: MTQ uh
A18: 21/02 | B18: TRAN THI HANH uh | C18: 700000 | E18: MTQ uh
A19: 22/02 | B19: Luu Thi Phuong Hoa ban Duong Huong uh | C19: 200000 | E19: MTQ uh
A20: 22/02 | B20: Than Thi Thanh Hai ban Duong Huong uh | C20: 500000 | E20: MTQ uh
A21: 22/02 | B21: Tran Thi Hoai Nam ban Duong Huong uh | C21: 300000 | E21: MTQ uh
A22: 22/02 | B22: Bui Thi Thu Huong ban Duong Huong uh | C22: 500000 | E22: MTQ uh
A23: 22/02 | B23: Nguyen Thi Bich ban Duong Huong uh | C23: 500000 | E23: MTQ uh
A24: 22/02 | B24: Anh Tran Nghia Toan Thang va cac GD uh | C24: 800000 | E24: MTQ uh
A25: 22/02 | B25: NTCM ck tien thit cha ngay 222 | D25: 1750000 | E25: Thịt/Chả
A26: 22/02 | B26: NTCM ck tien thuoc diet chuot | D26: 240000 | E26: Khác
A27: 22/02 | B27: Tran Lan Huong ban Duong Huong uh | C27: 1000000 | E27: MTQ uh
A28: 22/02 | B28: Tran Xuan Thuy ban Duong Huong uh | C28: 50000 | E28: MTQ uh
A29: 26/02 | B29: NTCM ck tien bat thia.. | D29: 522000 | E29: Dụng cụ
A30: 28/02 | B30: Me cua XUAN SON uh | C30: 300000 | E30: MTQ uh
A31: 28/02 | B31: TRINH HAI DUY uh | C31: 100000 | E31: MTQ uh
A32: 28/02 | B32: Minh Nhat uh | C32: 200000 | E32: MTQ uh
B33: TỔNG CỘNG | C33: =SUM(C6:C32) -> 10480044 | D33: =SUM(D6:D32) -> 4522000
B34: DƯ CUỐI KỲ | D34: =D5+C33-D33 -> 71232981

Sheet T3
B1: BÁO CÁO THU CHI QUỸ NỒI XÔI - BV THẬN HÀ NỘI
B2: THÁNG 03/2025
A4: NGÀY | B4: DIỄN GIẢI | C4: THU | D4: CHI | E4: KHOẢN MỤC
B5: DƯ ĐẦU KỲ | D5: ='T2'!D34 -> 71232981
B100: TỔNG CỘNG | C100: =SUM(C6:C99) -> 0 | D100: =SUM(D6:D99) -> 0
B101: DƯ CUỐI KỲ | D101: =D5+C100-D100 -> 71232981

Sheet T4
B1: BÁO CÁO THU CHI QUỸ NỒI XÔI - BV THẬN HÀ NỘI
B2: THÁNG 04/2025
A4: NGÀY | B4: DIỄN GIẢI | C4: THU | D4: CHI | E4: KHOẢN MỤC
B5: DƯ ĐẦU KỲ | D5: ='T3'!D101 -> 71232981
B100: TỔNG CỘNG | C100: =SUM(C6:C99) -> 0 | D100: =SUM(D6:D99) -> 0
B101: DƯ CUỐI KỲ | D101: =D5+C100-D100 -> 71232981

Sheet T5
B1: BÁO CÁO THU CHI QUỸ NỒI XÔI - BV THẬN HÀ NỘI
B2: THÁNG 05/2025
A4: NGÀY | B4: DIỄN GIẢI | C4: THU | D4: CHI | E4: KHOẢN MỤC
B5: DƯ ĐẦU KỲ | D5: ='T4'!D101 -> 71232981
B100: TỔNG CỘNG | C100: =SUM(C6:C99) -> 0 | D100: =SUM(D6:D99) -> 0
B101: DƯ CUỐI KỲ | D101: =D5+C100-D100 -> 71232981

Sheet T6
B1: BÁO CÁO THU CHI QUỸ NỒI XÔI - BV THẬN HÀ NỘI
B2: THÁNG 06/2025
A4: NGÀY | B4: DIỄN GIẢI | C4: THU | D4: CHI | E4: KHOẢN MỤC
B5: DƯ ĐẦU KỲ | D5: ='T5'!D101 -> 71232981
B100: TỔNG CỘNG | C100: =SUM(C6:C99) -> 0 | D100: =SUM(D6:D99) -> 0
B101: DƯ CUỐI KỲ | D101: =D5+C100-D100 -> 71232981

Sheet T7
B1: BÁO CÁO THU CHI QUỸ NỒI XÔI - BV THẬN HÀ NỘI
B2: THÁNG 07/2025
A4: NGÀY | B4: DIỄN GIẢI | C4: THU | D4: CHI | E4: KHOẢN MỤC
B5: DƯ ĐẦU KỲ | D5: ='T6'!D101 -> 71232981
B100: TỔNG CỘNG | C100: =SUM(C6:C99) -> 0 | D100: =SUM(D6:D99) -> 0
B101: DƯ CUỐI KỲ | D101: =D5+C100-D100 -> 71232981

Sheet T8
B1: BÁO CÁO THU CHI QUỸ NỒI XÔI - BV THẬN HÀ NỘI
B2: THÁNG 08/2025
A4: NGÀY | B4: DIỄN GIẢI | C4: THU | D4: CHI | E4: KHOẢN MỤC
B5: DƯ ĐẦU KỲ | D5: ='T7'!D101 -> 71232981
B100: TỔNG CỘNG | C100: =SUM(C6:C99) -> 0 | D100: =SUM(D6:D99) -> 0
B101: DƯ CUỐI KỲ | D101: =D5+C100-D100 -> 71232981

Sheet T9
B1: BÁO CÁO THU CHI QUỸ NỒI XÔI - BV THẬN HÀ NỘI
B2: THÁNG 09/2025
A4: NGÀY | B4: DIỄN GIẢI | C4: THU | D4: CHI | E4: KHOẢN MỤC
B5: DƯ ĐẦU KỲ | D5: ='T8'!D101 -> 71232981
B100: TỔNG CỘNG | C100: =SUM(C6:C99) -> 0 | D100: =SUM(D6:D99) -> 0
B101: DƯ CUỐI KỲ | D101: =D5+C100-D100 -> 71232981

Sheet T10
B1: BÁO CÁO THU CHI QUỸ NỒI XÔI - BV THẬN HÀ NỘI
B2: THÁNG 10/2025
A4: NGÀY | B4: DIỄN GIẢI | C4: THU | D4: CHI | E4: KHOẢN MỤC
B5: DƯ ĐẦU KỲ | D5: ='T9'!D101 -> 71232981
B100: TỔNG CỘNG | C100: =SUM(C6:C99) -> 0 | D100: =SUM(D6:D99) -> 0
B101: DƯ CUỐI KỲ | D101: =D5+C100-D100 -> 71232981

Sheet T11
B1: BÁO CÁO THU CHI QUỸ NỒI XÔI - BV THẬN HÀ NỘI
B2: THÁNG 11/2025
A4: NGÀY | B4: DIỄN GIẢI | C4: THU | D4: CHI | E4: KHOẢN MỤC
B5: DƯ ĐẦU KỲ | D5: ='T10'!D101 -> 71232981
B100: TỔNG CỘNG | C100: =SUM(C6:C99) -> 0 | D100: =SUM(D6:D99) -> 0
B101: DƯ CUỐI KỲ | D101: =D5+C100-D100 -> 71232981

Sheet T12
B1: BÁO CÁO THU CHI QUỸ NỒI XÔI - BV THẬN HÀ NỘI
B2: THÁNG 12/2025
A4: NGÀY | B4: DIỄN GIẢI | C4: THU | D4: CHI | E4: KHOẢN MỤC
B5: DƯ ĐẦU KỲ | D5: ='T11'!D101 -> 71232981
B100: TỔNG CỘNG | C100: =SUM(C6:C99) -> 0 | D100: =SUM(D6:D99) -> 0
B101: DƯ CUỐI KỲ | D101: =D5+C100-D100 -> 71232981

Sheet Tổng thu - chi
A1: TỔNG HỢP THU CHI QUỸ NỒI XÔI - BV THẬN HÀ NỘI NĂM 2025
A2: THÁNG | B2: THU | F2: CHI | M2: Gửi tiết kiệm | N2: SỐ DƯ
B3: MTQ uh | C3: LÃI | D3: Khác | E3: TỔNG THU | F3: Thịt/Chả | G3: Gạo nếp | H3: Ruốc | I3: Gas/Gia vị | J3: Dụng cụ | K3: Khác | L3: TỔNG CHI
A5: DƯ ĐẦU KỲ | N5: ='T1'!D5 -> 64990822
A6: Tháng 1 | B6: =SUMIF('T1'!$E$6:$E$18,'Tổng thu - chi'!$B$3,'T1'!$C$6:$C$18) -> 6200000 | C6: =SUMIF('T1'!$E$6:$E$18,'Tổng thu - chi'!$C$3,'T1'!$C$6:$C$18) -> 5115 | D6: =SUMIF('T1'!$E$6:$E$18,'Tổng thu - chi'!$D$3,'T1'!$C$6:$C$18) -> 0 | E6: =SUM(B6:D6) -> 6205115 | F6: =SUMIF('T1'!$E$6:$E$18,'Tổng thu - chi'!$F$3,'T1'!$D$6:$D$18) -> 5921000 | G6: =SUMIF('T1'!$E$6:$E$18,'Tổng thu - chi'!$G$3,'T1'!$D$6:$D$18) -> 0 | H6: =SUMIF('T1'!$E$6:$E$18,'Tổng thu - chi'!$H$3,'T1'!$D$6:$D$18) -> 0 | I6: =SUMIF('T1'!$E$6:$E$18,'Tổng thu - chi'!$I$3,'T1'!$D$6:$D$18) -> 0 | J6: =SUMIF('T1'!$E$6:$E$18,'Tổng thu - chi'!$J$3,'T1'!$D$6:$D$18) -> 0 | K6: =SUMIF('T1'!$E$6:$E$18,'Tổng thu - chi'!$K$3,'T1'!$D$6:$D$18) -> 0 | L6: =SUM(F6:K6) -> 5921000 | M6: =SUMIF('T1'!$E$6:$E$18,'Tổng thu - chi'!$M$3,'T1'!$D$6:$D$18) -> 0 | N6: =N5+E6-L6-M6 -> 65274937
A7: Tháng 2 | B7: =SUMIF('T2'!$E$6:$E$32,'Tổng thu - chi'!$B$3,'T2'!$C$6:$C$32) -> 10475000 | C7: =SUMIF('T2'!$E$6:$E$32,'Tổng thu - chi'!$C$3,'T2'!$C$6:$C$32) -> 5044 | D7: =SUMIF('T2'!$E$6:$E$32,'Tổng thu - chi'!$D$3,'T2'!$C$6:$C$32) -> 0 | E7: =SUM(B7:D7) -> 10480044 | F7: =SUMIF('T2'!$E$6:$E$32,'Tổng thu - chi'!$F$3,'T2'!$D$6:$D$32) -> 3760000 | G7: =SUMIF('T2'!$E$6:$E$32,'Tổng thu - chi'!$G$3,'T2'!$D$6:$D$32) -> 0 | H7: =SUMIF('T2'!$E$6:$E$32,'Tổng thu - chi'!$H$3,'T2'!$D$6:$D$32) -> 0 | I7: =SUMIF('T2'!$E$6:$E$32,'Tổng thu - chi'!$I$3,'T2'!$D$6:$D$32) -> 0 | J7: =SUMIF('T2'!$E$6:$E$32,'Tổng thu - chi'!$J$3,'T2'!$D$6:$D$32) -> 522000 | K7: =SUMIF('T2'!$E$6:$E$32,'Tổng thu - chi'!$K$3,'T2'!$D$6:$D$32) -> 240000 | L7: =SUM(F7:K7) -> 4522000 | M7: =SUMIF('T2'!$E$6:$E$32,'Tổng thu - chi'!$M$3,'T2'!$D$6:$D$32) -> 0 | N7: =N6+E7-L7-M7 -> 71232981
A8: Tháng 3 | B8: =SUMIF('T3'!$E$6:$E$99,'Tổng thu - chi'!$B$3,'T3'!$C$6:$C$99) -> 0 | C8: =SUMIF('T3'!$E$6:$E$99,'Tổng thu - chi'!$C$3,'T3'!$C$6:$C$99) -> 0 | D8: =SUMIF('T3'!$E$6:$E$99,'Tổng thu - chi'!$D$3,'T3'!$C$6:$C$99) -> 0 | E8: =SUM(B8:D8) -> 0 | F8: =SUMIF('T3'!$E$6:$E$99,'Tổng thu - chi'!$F$3,'T3'!$D$6:$D$99) -> 0 | G8: =SUMIF('T3'!$E$6:$E$99,'Tổng thu - chi'!$G$3,'T3'!$D$6:$D$99) -> 0 | H8: =SUMIF('T3'!$E$6:$E$99,'Tổng thu - chi'!$H$3,'T3'!$D$6:$D$99) -> 0 | I8: =SUMIF('T3'!$E$6:$E$99,'Tổng thu - chi'!$I$3,'T3'!$D$6:$D$99) -> 0 | J8: =SUMIF('T3'!$E$6:$E$99,'Tổng thu - chi'!$J$3,'T3'!$D$6:$D$99) -> 0 | K8: =SUMIF('T3'!$E$6:$E$99,'Tổng thu - chi'!$K$3,'T3'!$D$6:$D$99) -> 0 | L8: =SUM(F8:K8) -> 0 | M8: =SUMIF('T3'!$E$6:$E$99,'Tổng thu - chi'!$M$3,'T3'!$D$6:$D$99) -> 0 | N8: =N7+E8-L8-M8 -> 71232981
A9: Tháng 4 | B9: =SUMIF('T4'!$E$6:$E$99,'Tổng thu - chi'!$B$3,'T4'!$C$6:$C$99) -> 0 | C9: =SUMIF('T4'!$E$6:$E$99,'Tổng thu - chi'!$C$3,'T4'!$C$6:$C$99) -> 0 | D9: =SUMIF('T4'!$E$6:$E$99,'Tổng thu - chi'!$D$3,'T4'!$C$6:$C$99) -> 0 | E9: =SUM(B9:D9) -> 0 | F9: =SUMIF('T4'!$E$6:$E$99,'Tổng thu - chi'!$F$3,'T4'!$D$6:$D$99) -> 0 | G9: =SUMIF('T4'!$E$6:$E$99,'Tổng thu - chi'!$G$3,'T4'!$D$6:$D$99) -> 0 | H9: =SUMIF('T4'!$E$6:$E$99,'Tổng thu - chi'!$H$3,'T4'!$D$6:$D$99) -> 0 | I9: =SUMIF('T4'!$E$6:$E$99,'Tổng thu - chi'!$I$3,'T4'!$D$6:$D$99) -> 0 | J9: =SUMIF('T4'!$E$6:$E$99,'Tổng thu - chi'!$J$3,'T4'!$D$6:$D$99) -> 0 | K9: =SUMIF('T4'!$E$6:$E$99,'Tổng thu - chi'!$K$3,'T4'!$D$6:$D$99) -> 0 | L9: =SUM(F9:K9) -> 0 | M9: =SUMIF('T4'!$E$6:$E$99,'Tổng thu - chi'!$M$3,'T4'!$D$6:$D$99) -> 0 | N9: =N8+E9-L9-M9 -> 71232981
A10: Tháng 5 | B10: =SUMIF('T5'!$E$6:$E$99,'Tổng thu - chi'!$B$3,'T5'!$C$6:$C$99) -> 0 | C10: =SUMIF('T5'!$E$6:$E$99,'Tổng thu - chi'!$C$3,'T5'!$C$6:$C$99) -> 0 | D10: =SUMIF('T5'!$E$6:$E$99,'Tổng thu - chi'!$D$3,'T5'!$C$6:$C$99) -> 0 | E10: =SUM(B10:D10) -> 0 | F10: =SUMIF('T5'!$E$6:$E$99,'Tổng thu - chi'!$F$3,'T5'!$D$6:$D$99) -> 0 | G10: =SUMIF('T5'!$E$6:$E$99,'Tổng thu - chi'!$G$3,'T5'!$D$6:$D$99) -> 0 | H10: =SUMIF('T5'!$E$6:$E$99,'Tổng thu - chi'!$H$3,'T5'!$D$6:$D$99) -> 0 | I10: =SUMIF('T5'!$E$6:$E$99,'Tổng thu - chi'!$I$3,'T5'!$D$6:$D$99) -> 0 | J10: =SUMIF('T5'!$E$6:$E$99,'Tổng thu - chi'!$J$3,'T5'!$D$6:$D$99) -> 0 | K10: =SUMIF('T5'!$E$6:$E$99,'Tổng thu - chi'!$K$3,'T5'!$D$6:$D$99) -> 0 | L10: =SUM(F10:K10) -> 0 | M10: =SUMIF('T5'!$E$6:$E$99,'Tổng thu - chi'!$M$3,'T5'!$D$6:$D$99) -> 0 | N10: =N9+E10-L10-M10 -> 71232981
A11: Tháng 6 | B11: =SUMIF('T6'!$E$6:$E$99,'Tổng thu - chi'!$B$3,'T6'!$C$6:$C$99) -> 0 | C11: =SUMIF('T6'!$E$6:$E$99,'Tổng thu - chi'!$C$3,'T6'!$C$6:$C$99) -> 0 | D11: =SUMIF('T6'!$E$6:$E$99,'Tổng thu - chi'!$D$3,'T6'!$C$6:$C$99) -> 0 | E11: =SUM(B11:D11) -> 0 | F11: =SUMIF('T6'!$E$6:$E$99,'Tổng thu - chi'!$F$3,'T6'!$D$6:$D$99) -> 0 | G11: =SUMIF('T6'!$E$6:$E$99,'Tổng thu - chi'!$G$3,'T6'!$D$6:$D$99) -> 0 | H11: =SUMIF('T6'!$E$6:$E$99,'Tổng thu - chi'!$H$3,'T6'!$D$6:$D$99) -> 0 | I11: =SUMIF('T6'!$E$6:$E$99,'Tổng thu - chi'!$I$3,'T6'!$D$6:$D$99) -> 0 | J11: =SUMIF('T6'!$E$6:$E$99,'Tổng thu - chi'!$J$3,'T6'!$D$6:$D$99) -> 0 | K11: =SUMIF('T6'!$E$6:$E$99,'Tổng thu - chi'!$K$3,'T6'!$D$6:$D$99) -> 0 | L11: =SUM(F11:K11) -> 0 | M11: =SUMIF('T6'!$E$6:$E$99,'Tổng thu - chi'!$M$3,'T6'!$D$6:$D$99) -> 0 | N11: =N10+E11-L11-M11 -> 71232981
A12: Tháng 7 | B12: =SUMIF('T7'!$E$6:$E$99,'Tổng thu - chi'!$B$3,'T7'!$C$6:$C$99) -> 0 | C12: =SUMIF('T7'!$E$6:$E$99,'Tổng thu - chi'!$C$3,'T7'!$C$6:$C$99) -> 0 | D12: =SUMIF('T7'!$E$6:$E$99,'Tổng thu - chi'!$D$3,'T7'!$C$6:$C$99) -> 0 | E12: =SUM(B12:D12) -> 0 | F12: =SUMIF('T7'!$E$6:$E$99,'Tổng thu - chi'!$F$3,'T7'!$D$6:$D$99) -> 0 | G12: =SUMIF('T7'!$E$6:$E$99,'Tổng thu - chi'!$G$3,'T7'!$D$6:$D$99) -> 0 | H12: =SUMIF('T7'!$E$6:$E$99,'Tổng thu - chi'!$H$3,'T7'!$D$6:$D$99) -> 0 | I12: =SUMIF('T7'!$E$6:$E$99,'Tổng thu - chi'!$I$3,'T7'!$D$6:$D$99) -> 0 | J12: =SUMIF('T7'!$E$6:$E$99,'Tổng thu - chi'!$J$3,'T7'!$D$6:$D$99) -> 0 | K12: =SUMIF('T7'!$E$6:$E$99,'Tổng thu - chi'!$K$3,'T7'!$D$6:$D$99) -> 0 | L12: =SUM(F12:K12) -> 0 | M12: =SUMIF('T7'!$E$6:$E$99,'Tổng thu - chi'!$M$3,'T7'!$D$6:$D$99) -> 0 | N12: =N11+E12-L12-M12 -> 71232981
A13: Tháng 8 | B13: =SUMIF('T8'!$E$6:$E$99,'Tổng thu - chi'!$B$3,'T8'!$C$6:$C$99) -> 0 | C13: =SUMIF('T8'!$E$6:$E$99,'Tổng thu - chi'!$C$3,'T8'!$C$6:$C$99) -> 0 | D13: =SUMIF('T8'!$E$6:$E$99,'Tổng thu - chi'!$D$3,'T8'!$C$6:$C$99) -> 0 | E13: =SUM(B13:D13) -> 0 | F13: =SUMIF('T8'!$E$6:$E$99,'Tổng thu - chi'!$F$3,'T8'!$D$6:$D$99) -> 0 | G13: =SUMIF('T8'!$E$6:$E$99,'Tổng thu - chi'!$G$3,'T8'!$D$6:$D$99) -> 0 | H13: =SUMIF('T8'!$E$6:$E$99,'Tổng thu - chi'!$H$3,'T8'!$D$6:$D$99) -> 0 | I13: =SUMIF('T8'!$E$6:$E$99,'Tổng thu - chi'!$I$3,'T8'!$D$6:$D$99) -> 0 | J13: =SUMIF('T8'!$E$6:$E$99,'Tổng thu - chi'!$J$3,'T8'!$D$6:$D$99) -> 0 | K13: =SUMIF('T8'!$E$6:$E$99,'Tổng thu - chi'!$K$3,'T8'!$D$6:$D$99) -> 0 | L13: =SUM(F13:K13) -> 0 | M13: =SUMIF('T8'!$E$6:$E$99,'Tổng thu - chi'!$M$3,'T8'!$D$6:$D$99) -> 0 | N13: =N12+E13-L13-M13 -> 71232981
A14: Tháng 9 | B14: =SUMIF('T9'!$E$6:$E$99,'Tổng thu - chi'!$B$3,'T9'!$C$6:$C$99) -> 0 | C14: =SUMIF('T9'!$E$6:$E$99,'Tổng thu - chi'!$C$3,'T9'!$C$6:$C$99) -> 0 | D14: =SUMIF('T9'!$E$6:$E$99,'Tổng thu - chi'!$D$3,'T9'!$C$6:$C$99) -> 0 | E14: =SUM(B14:D14) -> 0 | F14: =SUMIF('T9'!$E$6:$E$99,'Tổng thu - chi'!$F$3,'T9'!$D$6:$D$99) -> 0 | G14: =SUMIF('T9'!$E$6:$E$99,'Tổng thu - chi'!$G$3,'T9'!$D$6:$D$99) -> 0 | H14: =SUMIF('T9'!$E$6:$E$99,'Tổng thu - chi'!$H$3,'T9'!$D$6:$D$99) -> 0 | I14: =SUMIF('T9'!$E$6:$E$99,'Tổng thu - chi'!$I$3,'T9'!$D$6:$D$99) -> 0 | J14: =SUMIF('T9'!$E$6:$E$99,'Tổng thu - chi'!$J$3,'T9'!$D$6:$D$99) -> 0 | K14: =SUMIF('T9'!$E$6:$E$99,'Tổng thu - chi'!$K$3,'T9'!$D$6:$D$99) -> 0 | L14: =SUM(F14:K14) -> 0 | M14: =SUMIF('T9'!$E$6:$E$99,'Tổng thu - chi'!$M$3,'T9'!$D$6:$D$99) -> 0 | N14: =N13+E14-L14-M14 -> 71232981
A15: Tháng 10 | B15: =SUMIF('T10'!$E$6:$E$99,'Tổng thu - chi'!$B$3,'T10'!$C$6:$C$99) -> 0 | C15: =SUMIF('T10'!$E$6:$E$99,'Tổng thu - chi'!$C$3,'T10'!$C$6:$C$99) -> 0 | D15: =SUMIF('T10'!$E$6:$E$99,'Tổng thu - chi'!$D$3,'T10'!$C$6:$C$99) -> 0 | E15: =SUM(B15:D15) -> 0 | F15: =SUMIF('T10'!$E$6:$E$99,'Tổng thu - chi'!$F$3,'T10'!$D$6:$D$99) -> 0 | G15: =SUMIF('T10'!$E$6:$E$99,'Tổng thu - chi'!$G$3,'T10'!$D$6:$D$99) -> 0 | H15: =SUMIF('T10'!$E$6:$E$99,'Tổng thu - chi'!$H$3,'T10'!$D$6:$D$99) -> 0 | I15: =SUMIF('T10'!$E$6:$E$99,'Tổng thu - chi'!$I$3,'T10'!$D$6:$D$99) -> 0 | J15: =SUMIF('T10'!$E$6:$E$99,'Tổng thu - chi'!$J$3,'T10'!$D$6:$D$99) -> 0 | K15: =SUMIF('T10'!$E$6:$E$99,'Tổng thu - chi'!$K$3,'T10'!$D$6:$D$99) -> 0 | L15: =SUM(F15:K15) -> 0 | M15: =SUMIF('T10'!$E$6:$E$99,'Tổng thu - chi'!$M$3,'T10'!$D$6:$D$99) -> 0 | N15: =N14+E15-L15-M15 -> 71232981
A16: Tháng 11 | B16: =SUMIF('T11'!$E$6:$E$99,'Tổng thu - chi'!$B$3,'T11'!$C$6:$C$99) -> 0 | C16: =SUMIF('T11'!$E$6:$E$99,'Tổng thu - chi'!$C$3,'T11'!$C$6:$C$99) -> 0 | D16: =SUMIF('T11'!$E$6:$E$99,'Tổng thu - chi'!$D$3,'T11'!$C$6:$C$99) -> 0 | E16: =SUM(B16:D16) -> 0 | F16: =SUMIF('T11'!$E$6:$E$99,'Tổng thu - chi'!$F$3,'T11'!$D$6:$D$99) -> 0 | G16: =SUMIF('T11'!$E$6:$E$99,'Tổng thu - chi'!$G$3,'T11'!$D$6:$D$99) -> 0 | H16: =SUMIF('T11'!$E$6:$E$99,'Tổng thu - chi'!$H$3,'T11'!$D$6:$D$99) -> 0 | I16: =SUMIF('T11'!$E$6:$E$99,'Tổng thu - chi'!$I$3,'T11'!$D$6:$D$99) -> 0 | J16: =SUMIF('T11'!$E$6:$E$99,'Tổng thu - chi'!$J$3,'T11'!$D$6:$D$99) -> 0 | K16: =SUMIF('T11'!$E$6:$E$99,'Tổng thu - chi'!$K$3,'T11'!$D$6:$D$99) -> 0 | L16: =SUM(F16:K16) -> 0 | M16: =SUMIF('T11'!$E$6:$E$99,'Tổng thu - chi'!$M$3,'T11'!$D$6:$D$99) -> 0 | N16: =N15+E16-L16-M16 -> 71232981
A17: Tháng 12 | B17: =SUMIF('T12'!$E$6:$E$99,'Tổng thu - chi'!$B$3,'T12'!$C$6:$C$99) -> 0 | C17: =SUMIF('T12'!$E$6:$E$99,'Tổng thu - chi'!$C$3,'T12'!$C$6:$C$99) -> 0 | D17: =SUMIF('T12'!$E$6:$E$99,'Tổng thu - chi'!$D$3,'T12'!$C$6:$C$99) -> 0 | E17: =SUM(B17:D17) -> 0 | F17: =SUMIF('T12'!$E$6:$E$99,'Tổng thu - chi'!$F$3,'T12'!$D$6:$D$99) -> 0 | G17: =SUMIF('T12'!$E$6:$E$99,'Tổng thu - chi'!$G$3,'T12'!$D$6:$D$99) -> 0 | H17: =SUMIF('T12'!$E$6:$E$99,'Tổng thu - chi'!$H$3,'T12'!$D$6:$D$99) -> 0 | I17: =SUMIF('T12'!$E$6:$E$99,'Tổng thu - chi'!$I$3,'T12'!$D$6:$D$99) -> 0 | J17: =SUMIF('T12'!$E$6:$E$99,'Tổng thu - chi'!$J$3,'T12'!$D$6:$D$99) -> 0 | K17: =SUMIF('T12'!$E$6:$E$99,'Tổng thu - chi'!$K$3,'T12'!$D$6:$D$99) -> 0 | L17: =SUM(F17:K17) -> 0 | M17: =SUMIF('T12'!$E$6:$E$99,'Tổng thu - chi'!$M$3,'T12'!$D$6:$D$99) -> 0 | N17: =N16+E17-L17-M17 -> 71232981
A18: TỔNG | B18: =SUM(B6:B17) -> 16675000 | C18: =SUM(C6:C17) -> 10159 | D18: =SUM(D6:D17) -> 0 | E18: =SUM(E6:E17) -> 16685159 | F18: =SUM(F6:F17) -> 9681000 | G18: =SUM(G6:G17) -> 0 | H18: =SUM(H6:H17) -> 0 | I18: =SUM(I6:I17) -> 0 | ... M18: =SUM(M6:M17) -> 0
A19: DƯ CUỐI KỲ | M19: =M5+SUM(M6:M17) -> 0 | N19: =N5+E18-L18-M18 -> 71232981
A20: TỔNG CỘNG SỐ DƯ CUỐI KỲ (Tại quỹ + gửi tiết kiệm) | N20: =M19+N19 -> 71232981
M22: =N17-'T12'!D101 -> 0 | N22: =N19-'T12'!D101 -> 0

Sheet Quỹ NTCM
A1: BÁO CÁO QUỸ NTCM
A2: STT | B2: Mã hoàn cảnh/ Chương trình | C2: NỘI DUNG | D2: Thu | F2: Chi | H2: TỒN
D3: MTQ uh | E3: Kết chuyển từ quỹ khác sang | F3: Chi | G3: Trích quỹ hỗ trợ quỹ khác
C4: TỒN ĐẦU NĂM | H4: 20846907
A5: 1 | B5: Quỹ NTCM | C5: Quỹ NTCM | D5: =SUMIF('T1'!#REF!,B5,'T1'!$C$6:$C$18)+SUMIF('T2'!#REF!,B5,'T2'!$C$6:$C$32)+SUMIF('T3'!#REF!,B5,'T3'!$C$6:$C$99)+SUMIF('T4'!#REF!,B5,'T4'!$C$6:$C$99)+SUMIF('T5'!#REF!,B5,'T5'!$C$6:$C$99)+SUMIF('T6'!#REF!,B5,'T6'!$C$6:$C$99)+SUMIF('T7'!#REF!,B5,'T7'!$C$6:$C$99)+SUMIF('T8'!#REF!,B5,'T8'!$C$6:$C$99)+SUMIF('T9'!#REF!,B5,'T9'!$C$6:$C$99)+SUMIF('T10'!#REF!,B5,'T10'!$C$6:$C$99)+SUMIF('T11'!#REF!,B5,'T11'!$C$6:$C$99)+SUMIF('T12'!#REF!,B5,'T12'!$C$6:$C$99) -> #REF! | F5: =SUMIF('T1'!#REF!,B5,'T1'!$D$6:$D$18)+SUMIF('T2'!#REF!,B5,'T2'!$D$6:$D$32)+SUMIF('T3'!#REF!,B5,'T3'!$D$6:$D$99)+SUMIF('T4'!#REF!,B5,'T4'!$D$6:$D$99)+SUMIF('T5'!#REF!,B5,'T5'!$D$6:$D$99)+SUMIF('T6'!#REF!,B5,'T6'!$D$6:$D$99)+SUMIF('T7'!#REF!,B5,'T7'!$D$6:$D$99)+SUMIF('T8'!#REF!,B5,'T8'!$D$6:$D$99)+SUMIF('T9'!#REF!,B5,'T9'!$D$6:$D$99)+SUMIF('T10'!#REF!,B5,'T10'!$D$6:$D$99)+SUMIF('T11'!#REF!,B5,'T11'!$D$6:$D$99)+SUMIF('T12'!#REF!,B5,'T12'!$D$6:$D$99) -> #REF!
A6: 3 | C6: Quỹ CMTX | D6: =SUMIF('T1'!#REF!,B6,'T1'!$C$6:$C$18)+SUMIF('T2'!#REF!,B6,'T2'!$C$6:$C$32)+SUMIF('T3'!#REF!,B6,'T3'!$C$6:$C$99)+SUMIF('T4'!#REF!,B6,'T4'!$C$6:$C$99)+SUMIF('T5'!#REF!,B6,'T5'!$C$6:$C$99)+SUMIF('T6'!#REF!,B6,'T6'!$C$6:$C$99)+SUMIF('T7'!#REF!,B6,'T7'!$C$6:$C$99)+SUMIF('T8'!#REF!,B6,'T8'!$C$6:$C$99)+SUMIF('T9'!#REF!,B6,'T9'!$C$6:$C$99)+SUMIF('T10'!#REF!,B6,'T10'!$C$6:$C$99)+SUMIF('T11'!#REF!,B6,'T11'!$C$6:$C$99)+SUMIF('T12'!#REF!,B6,'T12'!$C$6:$C$99) -> #REF! | E6: =#REF! -> #REF! | F6: =SUMIF('T1'!#REF!,B6,'T1'!$D$6:$D$18)+SUMIF('T2'!#REF!,B6,'T2'!$D$6:$D$32)+SUMIF('T3'!#REF!,B6,'T3'!$D$6:$D$99)+SUMIF('T4'!#REF!,B6,'T4'!$D$6:$D$99)+SUMIF('T5'!#REF!,B6,'T5'!$D$6:$D$99)+SUMIF('T6'!#REF!,B6,'T6'!$D$6:$D$99)+SUMIF('T7'!#REF!,B6,'T7'!$D$6:$D$99)+SUMIF('T8'!#REF!,B6,'T8'!$D$6:$D$99)+SUMIF('T9'!#REF!,B6,'T9'!$D$6:$D$99)+SUMIF('T10'!#REF!,B6,'T10'!$D$6:$D$99)+SUMIF('T11'!#REF!,B6,'T11'!$D$6:$D$99)+SUMIF('T12'!#REF!,B6,'T12'!$D$6:$D$99) -> #REF! | G6: =#REF! -> #REF!
A7: 4 | C7: Quỹ CMKTX | D7: =SUMIF('T1'!#REF!,B7,'T1'!$C$6:$C$18)+SUMIF('T2'!#REF!,B7,'T2'!$C$6:$C$32)+SUMIF('T3'!#REF!,B7,'T3'!$C$6:$C$99)+SUMIF('T4'!#REF!,B7,'T4'!$C$6:$C$99)+SUMIF('T5'!#REF!,B7,'T5'!$C$6:$C$99)+SUMIF('T6'!#REF!,B7,'T6'!$C$6:$C$99)+SUMIF('T7'!#REF!,B7,'T7'!$C$6:$C$99)+SUMIF('T8'!#REF!,B7,'T8'!$C$6:$C$99)+SUMIF('T9'!#REF!,B7,'T9'!$C$6:$C$99)+SUMIF('T10'!#REF!,B7,'T10'!$C$6:$C$99)+SUMIF('T11'!#REF!,B7,'T11'!$C$6:$C$99)+SUMIF('T12'!#REF!,B7,'T12'!$C$6:$C$99) -> #REF! | E7: =#REF! -> #REF! | F7: =SUMIF('T1'!#REF!,B7,'T1'!$D$6:$D$18)+SUMIF('T2'!#REF!,B7,'T2'!$D$6:$D$32)+SUMIF('T3'!#REF!,B7,'T3'!$D$6:$D$99)+SUMIF('T4'!#REF!,B7,'T4'!$D$6:$D$99)+SUMIF('T5'!#REF!,B7,'T5'!$D$6:$D$99)+SUMIF('T6'!#REF!,B7,'T6'!$D$6:$D$99)+SUMIF('T7'!#REF!,B7,'T7'!$D$6:$D$99)+SUMIF('T8'!#REF!,B7,'T8'!$D$6:$D$99)+SUMIF('T9'!#REF!,B7,'T9'!$D$6:$D$99)+SUMIF('T10'!#REF!,B7,'T10'!$D$6:$D$99)+SUMIF('T11'!#REF!,B7,'T11'!$D$6:$D$99)+SUMIF('T12'!#REF!,B7,'T12'!$D$6:$D$99) -> #REF! | G7: =#REF! -> #REF!
A8: 5 | C8: Quỹ Chương trình hoạt động | D8: =SUMIF('T1'!#REF!,B8,'T1'!$C$6:$C$18)+SUMIF('T2'!#REF!,B8,'T2'!$C$6:$C$32)+SUMIF('T3'!#REF!,B8,'T3'!$C$6:$C$99)+SUMIF('T4'!#REF!,B8,'T4'!$C$6:$C$99)+SUMIF('T5'!#REF!,B8,'T5'!$C$6:$C$99)+SUMIF('T6'!#REF!,B8,'T6'!$C$6:$C$99)+SUMIF('T7'!#REF!,B8,'T7'!$C$6:$C$99)+SUMIF('T8'!#REF!,B8,'T8'!$C$6:$C$99)+SUMIF('T9'!#REF!,B8,'T9'!$C$6:$C$99)+SUMIF('T10'!#REF!,B8,'T10'!$C$6:$C$99)+SUMIF('T11'!#REF!,B8,'T11'!$C$6:$C$99)+SUMIF('T12'!#REF!,B8,'T12'!$C$6:$C$99) -> #REF! | E8: =#REF! -> #REF! | F8: =SUMIF('T1'!#REF!,B8,'T1'!$D$6:$D$18)+SUMIF('T2'!#REF!,B8,'T2'!$D$6:$D$32)+SUMIF('T3'!#REF!,B8,'T3'!$D$6:$D$99)+SUMIF('T4'!#REF!,B8,'T4'!$D$6:$D$99)+SUMIF('T5'!#REF!,B8,'T5'!$D$6:$D$99)+SUMIF('T6'!#REF!,B8,'T6'!$D$6:$D$99)+SUMIF('T7'!#REF!,B8,'T7'!$D$6:$D$99)+SUMIF('T8'!#REF!,B8,'T8'!$D$6:$D$99)+SUMIF('T9'!#REF!,B8,'T9'!$D$6:$D$99)+SUMIF('T10'!#REF!,B8,'T10'!$D$6:$D$99)+SUMIF('T11'!#REF!,B8,'T11'!$D$6:$D$99)+SUMIF('T12'!#REF!,B8,'T12'!$D$6:$D$99) -> #REF! | G8: =#REF! -> #REF! | I8: Kết chuyển nhầm NNMU41 sang 40
A9: 6 | C9: Quỹ Cháo Xôi Cơm | D9: =SUMIF('T1'!#REF!,B9,'T1'!$C$6:$C$18)+SUMIF('T2'!#REF!,B9,'T2'!$C$6:$C$32)+SUMIF('T3'!#REF!,B9,'T3'!$C$6:$C$99)+SUMIF('T4'!#REF!,B9,'T4'!$C$6:$C$99)+SUMIF('T5'!#REF!,B9,'T5'!$C$6:$C$99)+SUMIF('T6'!#REF!,B9,'T6'!$C$6:$C$99)+SUMIF('T7'!#REF!,B9,'T7'!$C$6:$C$99)+SUMIF('T8'!#REF!,B9,'T8'!$C$6:$C$99)+SUMIF('T9'!#REF!,B9,'T9'!$C$6:$C$99)+SUMIF('T10'!#REF!,B9,'T10'!$C$6:$C$99)+SUMIF('T11'!#REF!,B9,'T11'!$C$6:$C$99)+SUMIF('T12'!#REF!,B9,'T12'!$C$6:$C$99) -> #REF! | E9: =#REF! -> #REF! | F9: =SUMIF('T1'!#REF!,B9,'T1'!$D$6:$D$18)+SUMIF('T2'!#REF!,B9,'T2'!$D$6:$D$32)+SUMIF('T3'!#REF!,B9,'T3'!$D$6:$D$99)+SUMIF('T4'!#REF!,B9,'T4'!$D$6:$D$99)+SUMIF('T5'!#REF!,B9,'T5'!$D$6:$D$99)+SUMIF('T6'!#REF!,B9,'T6'!$D$6:$D$99)+SUMIF('T7'!#REF!,B9,'T7'!$D$6:$D$99)+SUMIF('T8'!#REF!,B9,'T8'!$D$6:$D$99)+SUMIF('T9'!#REF!,B9,'T9'!$D$6:$D$99)+SUMIF('T10'!#REF!,B9,'T10'!$D$6:$D$99)+SUMIF('T11'!#REF!,B9,'T11'!$D$6:$D$99)+SUMIF('T12'!#REF!,B9,'T12'!$D$6:$D$99) -> #REF! | G9: =#REF! -> #REF! | I9: Kết chuyển nhầm NNMU41 sang 40
A10: 7 | C10: Quỹ Mai táng từ thiện | D10: =SUMIF('T1'!#REF!,B10,'T1'!$C$6:$C$18)+SUMIF('T2'!#REF!,B10,'T2'!$C$6:$C$32)+SUMIF('T3'!#REF!,B10,'T3'!$C$6:$C$99)+SUMIF('T4'!#REF!,B10,'T4'!$C$6:$C$99)+SUMIF('T5'!#REF!,B10,'T5'!$C$6:$C$99)+SUMIF('T6'!#REF!,B10,'T6'!$C$6:$C$99)+SUMIF('T7'!#REF!,B10,'T7'!$C$6:$C$99)+SUMIF('T8'!#REF!,B10,'T8'!$C$6:$C$99)+SUMIF('T9'!#REF!,B10,'T9'!$C$6:$C$99)+SUMIF('T10'!#REF!,B10,'T10'!$C$6:$C$99)+SUMIF('T11'!#REF!,B10,'T11'!$C$6:$C$99)+SUMIF('T12'!#REF!,B10,'T12'!$C$6:$C$99) -> #REF! | E10: =#REF! -> #REF! | F10: =SUMIF('T1'!#REF!,B10,'T1'!$D$6:$D$18)+SUMIF('T2'!#REF!,B10,'T2'!$D$6:$D$32)+SUMIF('T3'!#REF!,B10,'T3'!$D$6:$D$99)+SUMIF('T4'!#REF!,B10,'T4'!$D$6:$D$99)+SUMIF('T5'!#REF!,B10,'T5'!$D$6:$D$99)+SUMIF('T6'!#REF!,B10,'T6'!$D$6:$D$99)+SUMIF('T7'!#REF!,B10,'T7'!$D$6:$D$99)+SUMIF('T8'!#REF!,B10,'T8'!$D$6:$D$99)+SUMIF('T9'!#REF!,B10,'T9'!$D$6:$D$99)+SUMIF('T10'!#REF!,B10,'T10'!$D$6:$D$99)+SUMIF('T11'!#REF!,B10,'T11'!$D$6:$D$99)+SUMIF('T12'!#REF!,B10,'T12'!$D$6:$D$99) -> #REF! | G10: =#REF! -> #REF!
A11: 8 | C11: Quỹ Heart Bank | D11: =SUMIF('T1'!#REF!,B11,'T1'!$C$6:$C$18)+SUMIF('T2'!#REF!,B11,'T2'!$C$6:$C$32)+SUMIF('T3'!#REF!,B11,'T3'!$C$6:$C$99)+SUMIF('T4'!#REF!,B11,'T4'!$C$6:$C$99)+SUMIF('T5'!#REF!,B11,'T5'!$C$6:$C$99)+SUMIF('T6'!#REF!,B11,'T6'!$C$6:$C$99)+SUMIF('T7'!#REF!,B11,'T7'!$C$6:$C$99)+SUMIF('T8'!#REF!,B11,'T8'!$C$6:$C$99)+SUMIF('T9'!#REF!,B11,'T9'!$C$6:$C$99)+SUMIF('T10'!#REF!,B11,'T10'!$C$6:$C$99)+SUMIF('T11'!#REF!,B11,'T11'!$C$6:$C$99)+SUMIF('T12'!#REF!,B11,'T12'!$C$6:$C$99) -> #REF! | E11: =#REF! -> #REF! | F11: =SUMIF('T1'!#REF!,B11,'T1'!$D$6:$D$18)+SUMIF('T2'!#REF!,B11,'T2'!$D$6:$D$32)+SUMIF('T3'!#REF!,B11,'T3'!$D$6:$D$99)+SUMIF('T4'!#REF!,B11,'T4'!$D$6:$D$99)+SUMIF('T5'!#REF!,B11,'T5'!$D$6:$D$99)+SUMIF('T6'!#REF!,B11,'T6'!$D$6:$D$99)+SUMIF('T7'!#REF!,B11,'T7'!$D$6:$D$99)+SUMIF('T8'!#REF!,B11,'T8'!$D$6:$D$99)+SUMIF('T9'!#REF!,B11,'T9'!$D$6:$D$99)+SUMIF('T10'!#REF!,B11,'T10'!$D$6:$D$99)+SUMIF('T11'!#REF!,B11,'T11'!$D$6:$D$99)+SUMIF('T12'!#REF!,B11,'T12'!$D$6:$D$99) -> #REF! | G11: =#REF! -> #REF!
A12: 9 | C12: Quỹ NNMU | D12: =SUMIF('T1'!#REF!,B12,'T1'!$C$6:$C$18)+SUMIF('T2'!#REF!,B12,'T2'!$C$6:$C$32)+SUMIF('T3'!#REF!,B12,'T3'!$C$6:$C$99)+SUMIF('T4'!#REF!,B12,'T4'!$C$6:$C$99)+SUMIF('T5'!#REF!,B12,'T5'!$C$6:$C$99)+SUMIF('T6'!#REF!,B12,'T6'!$C$6:$C$99)+SUMIF('T7'!#REF!,B12,'T7'!$C$6:$C$99)+SUMIF('T8'!#REF!,B12,'T8'!$C$6:$C$99)+SUMIF('T9'!#REF!,B12,'T9'!$C$6:$C$99)+SUMIF('T10'!#REF!,B12,'T10'!$C$6:$C$99)+SUMIF('T11'!#REF!,B12,'T11'!$C$6:$C$99)+SUMIF('T12'!#REF!,B12,'T12'!$C$6:$C$99) -> #REF! | E12: =#REF! -> #REF! | F12: =SUMIF('T1'!#REF!,B12,'T1'!$D$6:$D$18)+SUMIF('T2'!#REF!,B12,'T2'!$D$6:$D$32)+SUMIF('T3'!#REF!,B12,'T3'!$D$6:$D$99)+SUMIF('T4'!#REF!,B12,'T4'!$D$6:$D$99)+SUMIF('T5'!#REF!,B12,'T5'!$D$6:$D$99)+SUMIF('T6'!#REF!,B12,'T6'!$D$6:$D$99)+SUMIF('T7'!#REF!,B12,'T7'!$D$6:$D$99)+SUMIF('T8'!#REF!,B12,'T8'!$D$6:$D$99)+SUMIF('T9'!#REF!,B12,'T9'!$D$6:$D$99)+SUMIF('T10'!#REF!,B12,'T10'!$D$6:$D$99)+SUMIF('T11'!#REF!,B12,'T11'!$D$6:$D$99)+SUMIF('T12'!#REF!,B12,'T12'!$D$6:$D$99) -> #REF! | G12: =#REF! -> #REF!
A13: 10 | C13: Quỹ Khác | D13: =SUMIF('T1'!#REF!,B13,'T1'!$C$6:$C$18)+SUMIF('T2'!#REF!,B13,'T2'!$C$6:$C$32)+SUMIF('T3'!#REF!,B13,'T3'!$C$6:$C$99)+SUMIF('T4'!#REF!,B13,'T4'!$C$6:$C$99)+SUMIF('T5'!#REF!,B13,'T5'!$C$6:$C$99)+SUMIF('T6'!#REF!,B13,'T6'!$C$6:$C$99)+SUMIF('T7'!#REF!,B13,'T7'!$C$6:$C$99)+SUMIF('T8'!#REF!,B13,'T8'!$C$6:$C$99)+SUMIF('T9'!#REF!,B13,'T9'!$C$6:$C$99)+SUMIF('T10'!#REF!,B13,'T10'!$C$6:$C$99)+SUMIF('T11'!#REF!,B13,'T11'!$C$6:$C$99)+SUMIF('T12'!#REF!,B13,'T12'!$C$6:$C$99) -> #REF! | E13: =#REF! -> #REF! | F13: =SUMIF('T1'!#REF!,B13,'T1'!$D$6:$D$18)+SUMIF('T2'!#REF!,B13,'T2'!$D$6:$D$32)+SUMIF('T3'!#REF!,B13,'T3'!$D$6:$D$99)+SUMIF('T4'!#REF!,B13,'T4'!$D$6:$D$99)+SUMIF('T5'!#REF!,B13,'T5'!$D$6:$D$99)+SUMIF('T6'!#REF!,B13,'T6'!$D$6:$D$99)+SUMIF('T7'!#REF!,B13,'T7'!$D$6:$D$99)+SUMIF('T8'!#REF!,B13,'T8'!$D$6:$D$99)+SUMIF('T9'!#REF!,B13,'T9'!$D$6:$D$99)+SUMIF('T10'!#REF!,B13,'T10'!$D$6:$D$99)+SUMIF('T11'!#REF!,B13,'T11'!$D$6:$D$99)+SUMIF('T12'!#REF!,B13,'T12'!$D$6:$D$99) -> #REF! | G13: =#REF! -> #REF!
A14: 11 | D14: =SUMIF('T1'!#REF!,B14,'T1'!$C$6:$C$18)+SUMIF('T2'!#REF!,B14,'T2'!$C$6:$C$32)+SUMIF('T3'!#REF!,B14,'T3'!$C$6:$C$99)+SUMIF('T4'!#REF!,B14,'T4'!$C$6:$C$99)+SUMIF('T5'!#REF!,B14,'T5'!$C$6:$C$99)+SUMIF('T6'!#REF!,B14,'T6'!$C$6:$C$99)+SUMIF('T7'!#REF!,B14,'T7'!$C$6:$C$99)+SUMIF('T8'!#REF!,B14,'T8'!$C$6:$C$99)+SUMIF('T9'!#REF!,B14,'T9'!$C$6:$C$99)+SUMIF('T10'!#REF!,B14,'T10'!$C$6:$C$99)+SUMIF('T11'!#REF!,B14,'T11'!$C$6:$C$99)+SUMIF('T12'!#REF!,B14,'T12'!$C$6:$C$99) -> #REF! | F14: =SUMIF('T1'!#REF!,B14,'T1'!$D$6:$D$18)+SUMIF('T2'!#REF!,B14,'T2'!$D$6:$D$32)+SUMIF('T3'!#REF!,B14,'T3'!$D$6:$D$99)+SUMIF('T4'!#REF!,B14,'T4'!$D$6:$D$99)+SUMIF('T5'!#REF!,B14,'T5'!$D$6:$D$99)+SUMIF('T6'!#REF!,B14,'T6'!$D$6:$D$99)+SUMIF('T7'!#REF!,B14,'T7'!$D$6:$D$99)+SUMIF('T8'!#REF!,B14,'T8'!$D$6:$D$99)+SUMIF('T9'!#REF!,B14,'T9'!$D$6:$D$99)+SUMIF('T10'!#REF!,B14,'T10'!$D$6:$D$99)+SUMIF('T11'!#REF!,B14,'T11'!$D$6:$D$99)+SUMIF('T12'!#REF!,B14,'T12'!$D$6:$D$99) -> #REF!
A15: 12 | D15: =SUMIF('T1'!#REF!,B15,'T1'!$C$6:$C$18)+SUMIF('T2'!#REF!,B15,'T2'!$C$6:$C$32)+SUMIF('T3'!#REF!,B15,'T3'!$C$6:$C$99)+SUMIF('T4'!#REF!,B15,'T4'!$C$6:$C$99)+SUMIF('T5'!#REF!,B15,'T5'!$C$6:$C$99)+SUMIF('T6'!#REF!,B15,'T6'!$C$6:$C$99)+SUMIF('T7'!#REF!,B15,'T7'!$C$6:$C$99)+SUMIF('T8'!#REF!,B15,'T8'!$C$6:$C$99)+SUMIF('T9'!#REF!,B15,'T9'!$C$6:$C$99)+SUMIF('T10'!#REF!,B15,'T10'!$C$6:$C$99)+SUMIF('T11'!#REF!,B15,'T11'!$C$6:$C$99)+SUMIF('T12'!#REF!,B15,'T12'!$C$6:$C$99) -> #REF! | F15: =SUMIF('T1'!#REF!,B15,'T1'!$D$6:$D$18)+SUMIF('T2'!#REF!,B15,'T2'!$D$6:$D$32)+SUMIF('T3'!#REF!,B15,'T3'!$D$6:$D$99)+SUMIF('T4'!#REF!,B15,'T4'!$D$6:$D$99)+SUMIF('T5'!#REF!,B15,'T5'!$D$6:$D$99)+SUMIF('T6'!#REF!,B15,'T6'!$D$6:$D$99)+SUMIF('T7'!#REF!,B15,'T7'!$D$6:$D$99)+SUMIF('T8'!#REF!,B15,'T8'!$D$6:$D$99)+SUMIF('T9'!#REF!,B15,'T9'!$D$6:$D$99)+SUMIF('T10'!#REF!,B15,'T10'!$D$6:$D$99)+SUMIF('T11'!#REF!,B15,'T11'!$D$6:$D$99)+SUMIF('T12'!#REF!,B15,'T12'!$D$6:$D$99) -> #REF!
A16: 13 | D16: =SUMIF('T1'!#REF!,B16,'T1'!$C$6:$C$18)+SUMIF('T2'!#REF!,B16,'T2'!$C$6:$C$32)+SUMIF('T3'!#REF!,B16,'T3'!$C$6:$C$99)+SUMIF('T4'!#REF!,B16,'T4'!$C$6:$C$99)+SUMIF('T5'!#REF!,B16,'T5'!$C$6:$C$99)+SUMIF('T6'!#REF!,B16,'T6'!$C$6:$C$99)+SUMIF('T7'!#REF!,B16,'T7'!$C$6:$C$99)+SUMIF('T8'!#REF!,B16,'T8'!$C$6:$C$99)+SUMIF('T9'!#REF!,B16,'T9'!$C$6:$C$99)+SUMIF('T10'!#REF!,B16,'T10'!$C$6:$C$99)+SUMIF('T11'!#REF!,B16,'T11'!$C$6:$C$99)+SUMIF('T12'!#REF!,B16,'T12'!$C$6:$C$99) -> #REF! | F16: =SUMIF('T1'!#REF!,B16,'T1'!$D$6:$D$18)+SUMIF('T2'!#REF!,B16,'T2'!$D$6:$D$32)+SUMIF('T3'!#REF!,B16,'T3'!$D$6:$D$99)+SUMIF('T4'!#REF!,B16,'T4'!$D$6:$D$99)+SUMIF('T5'!#REF!,B16,'T5'!$D$6:$D$99)+SUMIF('T6'!#REF!,B16,'T6'!$D$6:$D$99)+SUMIF('T7'!#REF!,B16,'T7'!$D$6:$D$99)+SUMIF('T8'!#REF!,B16,'T8'!$D$6:$D$99)+SUMIF('T9'!#REF!,B16,'T9'!$D$6:$D$99)+SUMIF('T10'!#REF!,B16,'T10'!$D$6:$D$99)+SUMIF('T11'!#REF!,B16,'T11'!$D$6:$D$99)+SUMIF('T12'!#REF!,B16,'T12'!$D$6:$D$99) -> #REF!
A17: 14 | D17: =SUMIF('T1'!#REF!,B17,'T1'!$C$6:$C$18)+SUMIF('T2'!#REF!,B17,'T2'!$C$6:$C$32)+SUMIF('T3'!#REF!,B17,'T3'!$C$6:$C$99)+SUMIF('T4'!#REF!,B17,'T4'!$C$6:$C$99)+SUMIF('T5'!#REF!,B17,'T5'!$C$6:$C$99)+SUMIF('T6'!#REF!,B17,'T6'!$C$6:$C$99)+SUMIF('T7'!#REF!,B17,'T7'!$C$6:$C$99)+SUMIF('T8'!#REF!,B17,'T8'!$C$6:$C$99)+SUMIF('T9'!#REF!,B17,'T9'!$C$6:$C$99)+SUMIF('T10'!#REF!,B17,'T10'!$C$6:$C$99)+SUMIF('T11'!#REF!,B17,'T11'!$C$6:$C$99)+SUMIF('T12'!#REF!,B17,'T12'!$C$6:$C$99) -> #REF! | F17: =SUMIF('T1'!#REF!,B17,'T1'!$D$6:$D$18)+SUMIF('T2'!#REF!,B17,'T2'!$D$6:$D$32)+SUMIF('T3'!#REF!,B17,'T3'!$D$6:$D$99)+SUMIF('T4'!#REF!,B17,'T4'!$D$6:$D$99)+SUMIF('T5'!#REF!,B17,'T5'!$D$6:$D$99)+SUMIF('T6'!#REF!,B17,'T6'!$D$6:$D$99)+SUMIF('T7'!#REF!,B17,'T7'!$D$6:$D$99)+SUMIF('T8'!#REF!,B17,'T8'!$D$6:$D$99)+SUMIF('T9'!#REF!,B17,'T9'!$D$6:$D$99)+SUMIF('T10'!#REF!,B17,'T10'!$D$6:$D$99)+SUMIF('T11'!#REF!,B17,'T11'!$D$6:$D$99)+SUMIF('T12'!#REF!,B17,'T12'!$D$6:$D$99) -> #REF!
A18: 15 | D18: =SUMIF('T1'!#REF!,B18,'T1'!$C$6:$C$18)+SUMIF('T2'!#REF!,B18,'T2'!$C$6:$C$32)+SUMIF('T3'!#REF!,B18,'T3'!$C$6:$C$99)+SUMIF('T4'!#REF!,B18,'T4'!$C$6:$C$99)+SUMIF('T5'!#REF!,B18,'T5'!$C$6:$C$99)+SUMIF('T6'!#REF!,B18,'T6'!$C$6:$C$99)+SUMIF('T7'!#REF!,B18,'T7'!$C$6:$C$99)+SUMIF('T8'!#REF!,B18,'T8'!$C$6:$C$99)+SUMIF('T9'!#REF!,B18,'T9'!$C$6:$C$99)+SUMIF('T10'!#REF!,B18,'T10'!$C$6:$C$99)+SUMIF('T11'!#REF!,B18,'T11'!$C$6:$C$99)+SUMIF('T12'!#REF!,B18,'T12'!$C$6:$C$99) -> #REF! | F18: =SUMIF('T1'!#REF!,B18,'T1'!$D$6:$D$18)+SUMIF('T2'!#REF!,B18,'T2'!$D$6:$D$32)+SUMIF('T3'!#REF!,B18,'T3'!$D$6:$D$99)+SUMIF('T4'!#REF!,B18,'T4'!$D$6:$D$99)+SUMIF('T5'!#REF!,B18,'T5'!$D$6:$D$99)+SUMIF('T6'!#REF!,B18,'T6'!$D$6:$D$99)+SUMIF('T7'!#REF!,B18,'T7'!$D$6:$D$99)+SUMIF('T8'!#REF!,B18,'T8'!$D$6:$D$99)+SUMIF('T9'!#REF!,B18,'T9'!$D$6:$D$99)+SUMIF('T10'!#REF!,B18,'T10'!$D$6:$D$99)+SUMIF('T11'!#REF!,B18,'T11'!$D$6:$D$99)+SUMIF('T12'!#REF!,B18,'T12'!$D$6:$D$99) -> #REF!
A19: 16 | D19: =SUMIF('T1'!#REF!,B19,'T1'!$C$6:$C$18)+SUMIF('T2'!#REF!,B19,'T2'!$C$6:$C$32)+SUMIF('T3'!#REF!,B19,'T3'!$C$6:$C$99)+SUMIF('T4'!#REF!,B19,'T4'!$C$6:$C$99)+SUMIF('T5'!#REF!,B19,'T5'!$C$6:$C$99)+SUMIF('T6'!#REF!,B19,'T6'!$C$6:$C$99)+SUMIF('T7'!#REF!,B19,'T7'!$C$6:$C$99)+SUMIF('T8'!#REF!,B19,'T8'!$C$6:$C$99)+SUMIF('T9'!#REF!,B19,'T9'!$C$6:$C$99)+SUMIF('T10'!#REF!,B19,'T10'!$C$6:$C$99)+SUMIF('T11'!#REF!,B19,'T11'!$C$6:$C$99)+SUMIF('T12'!#REF!,B19,'T12'!$C$6:$C$99) -> #REF! | F19: =SUMIF('T1'!#REF!,B19,'T1'!$D$6:$D$18)+SUMIF('T2'!#REF!,B19,'T2'!$D$6:$D$32)+SUMIF('T3'!#REF!,B19,'T3'!$D$6:$D$99)+SUMIF('T4'!#REF!,B19,'T4'!$D$6:$D$99)+SUMIF('T5'!#REF!,B19,'T5'!$D$6:$D$99)+SUMIF('T6'!#REF!,B19,'T6'!$D$6:$D$99)+SUMIF('T7'!#REF!,B19,'T7'!$D$6:$D$99)+SUMIF('T8'!#REF!,B19,'T8'!$D$6:$D$99)+SUMIF('T9'!#REF!,B19,'T9'!$D$6:$D$99)+SUMIF('T10'!#REF!,B19,'T10'!$D$6:$D$99)+SUMIF('T11'!#REF!,B19,'T11'!$D$6:$D$99)+SUMIF('T12'!#REF!,B19,'T12'!$D$6:$D$99) -> #REF!
C20: TỔNG CỘNG | D20: =SUM(D5:D19) -> #REF! | E20: =SUM(E5:E19) -> #REF! | F20: =SUM(F5:F19) -> #REF! | G20: =SUM(G5:G19) -> #REF! | I20: =+#REF!-#REF! -> #REF!
C21: TỒN CUỐI NĂM | H21: =H4+D20+E20-F20-G20 -> #REF!
D27: =+#REF!+#REF!+#REF!+#REF! -> #REF! | F27: =+#REF!+#REF!+#REF!+#REF! -> #REF! | H27: =+#REF!+#REF!+#REF!+#REF! -> #REF! | I27: =+SUM(#REF!) -> #REF!
D28: =+[1]T4!D87 -> 56230207 | H28: =+[1]T4!F87 -> 372729996 | I28: =+H27-I27 -> #REF!
C29: 50k ở TK VCB của chị Thocon | D29: =+D28-D27 -> #REF! | H29: =+H27-H28 -> #REF!

Sheet Thuyết minh
A1: Báo cáo quỹ 1501 bao gồm: - 12 sheet chi tiết tương ứng 12 tháng trong năm - 1 sheet Tổng thu chi
A2: NHẬP LIỆU 12 SHEET CHI TIẾT: - Hàng tháng nhập số liệu từ sao kê ngân hàng - Lưu ý: 1/ Nhập theo trình tự thời gian 2/ Nếu tháng nào nhiều hơn số dòng hiện có, chèn vào khoảng giữa, ko chèn vào đầu hoặc cuối 3/ Cột khoản mục: Ấn vào mũi tên xuống để chọn. KHÔNG ĐƯỢC ĐỂ TRỐNG 4/ Dòng dư đầu kỳ, tổng cộng, dư cuối kỳ đã đặt công thức tự động tính.
A3: SHEET TỔNG THU CHI - Đã đặt công thức cho toàn bộ bảng tính. - Hàng tháng không cần làm gì thêm ở sheet này - Cuối năm nhìn vào sheet này là biết toàn bộ tình hình hoạt động của quỹ
A4: Note: Trong quá trình làm nếu vướng gì báo Lucky hỗ trợ!
