Workbook

Sheet Tồn kho tháng 5
B3: STT | C3: Mã NVL | D3: Tên NVL | E3: DVT | F3: Số dư tháng trước
B4: 1 | C4: GA | D4: Gạo | E4: kg
B5: 2 | C5: DA | D5: Dầu ăn | E5: lít
B6: 3 | C6: NM | D6: Nước mắm | E6: lít
B7: 4 | C7: NT | D7: Nước tương | E7: lít
B8: 5 | C8: BC | D8: Bột canh | E8: Gói | F8: 52
B9: 6 | C9: HN | D9: Hạt nêm | E9: kg
B10: 7 | C10: BN | D10: Bột ngọt | E10: Gói
B11: 8 | C11: MU | D11: Muối | E11: kg
B12: 9 | C12: DU | D12: Đường | E12: kg
B13: 12 | C13: TI | D13: Tiêu | E13: kg
B14: 22 | C14: MT | D14: Mỳ tôm | E14: Gói
B15: 23 | C15: SB | D15: Sữa bột | E15: Hộp
B16: 24 | C16: HX | D16: Hộp đựng xôi | E16: Hộp
B17: 25 | C17: GO | D17: Gối trẻ em | E17: Bao

Sheet Nhật kí Xuất - Nhập kho
A1: KHO HÀNG TẠI ….
A2: THẺ KHO
A3: Tháng 6,7/2020
A5: STT | B5: NGÀY | C5: Mã NVL | D5: TÊN NVL | E5: ĐVT | F5: DIỄN GIẢI | G5: NHẬP | H5: XUẤT | I5: GHI CHÚ
A6: 1 | B6: 01/07 | C6: GA | D6: =VLOOKUP(C6,'Tồn kho tháng 5'!$C$4:$D$13,2,0) -> Gạo | E6: =VLOOKUP(C6,'Tồn kho tháng 5'!$C$4:$E$13,3,0) -> kg | F6: Kho hàng sài gòn chuyển về | G6: 600
A7: 2 | C7: MT | D7: =VLOOKUP(C7,'Tồn kho tháng 5'!$C$13:$D$14,2,0) -> Mỳ tôm | E7: =VLOOKUP(C7,'Tồn kho tháng 5'!$C$13:$E$14,3,0) -> Gói | F7: Kho hàng sài gòn chuyển về | G7: 200
A8: 3 | C8: HX | D8: =VLOOKUP(C8,'Tồn kho tháng 5'!$C$14:$D$24,2,0) -> Hộp đựng xôi | E8: =VLOOKUP(C8,'Tồn kho tháng 5'!$C$14:$E$24,3,0) -> Hộp | F8: Kho hàng sài gòn chuyển về | G8: 2
A9: 4 | C9: GO | D9: =VLOOKUP(C9,'Tồn kho tháng 5'!$C$14:$D$25,2,0) -> Gối trẻ em | E9: =VLOOKUP(C9,'Tồn kho tháng 5'!$C$14:$E$25,3,0) -> Bao | F9: Kho hàng sài gòn chuyển về | G9: 2
A10: 5 | B10: 15/07 | C10: NM | D10: =VLOOKUP(C10,'Tồn kho tháng 5'!$C$4:$D$13,2,0) -> Nước mắm | E10: =VLOOKUP(C10,'Tồn kho tháng 5'!$C$4:$E$13,3,0) -> lít | F10: GĐ AC Lộc - oanh UH | G10: 30
A11: 6 | C11: DA | D11: =VLOOKUP(C11,'Tồn kho tháng 5'!$C$4:$D$13,2,0) -> Dầu ăn | E11: =VLOOKUP(C11,'Tồn kho tháng 5'!$C$4:$E$13,3,0) -> lít | F11: GĐ AC Lộc - oanh UH | G11: 33
A12: 7 | C12: DU | D12: =VLOOKUP(C12,'Tồn kho tháng 5'!$C$4:$D$13,2,0) -> Đường | E12: =VLOOKUP(C12,'Tồn kho tháng 5'!$C$4:$E$13,3,0) -> kg | F12: GĐ AC Lộc - oanh UH | G12: 15
A13: 8 | C13: BN | D13: =VLOOKUP(C13,'Tồn kho tháng 5'!$C$4:$D$13,2,0) -> Bột ngọt | E13: =VLOOKUP(C13,'Tồn kho tháng 5'!$C$4:$E$13,3,0) -> Gói | F13: GĐ AC Lộc - oanh UH | G13: 15 | I13: Gói(454gr)
A14: 9 | B14: 20/07 | C14: SB | D14: =VLOOKUP(C14,'Tồn kho tháng 5'!$C$13:$D$15,2,0) -> Sữa bột | E14: =VLOOKUP(C14,'Tồn kho tháng 5'!$C$13:$E$15,3,0) -> Hộp | F14: Kho hàng sài gòn chuyển về | G14: 12
A15: 10 | C15: HX | D15: =VLOOKUP(C15,'Tồn kho tháng 5'!$C$15:$D$16,2,0) -> Hộp đựng xôi | E15: =VLOOKUP(C15,'Tồn kho tháng 5'!$C$15:$E$16,3,0) -> Hộp | F15: Xuất kho nồi xôi tháng 7 | H15: 2
A16: 11 | C16: GO | D16: =VLOOKUP(C16,'Tồn kho tháng 5'!$C$15:$D$17,2,0) -> Gối trẻ em | E16: =VLOOKUP(C16,'Tồn kho tháng 5'!$C$15:$E$17,3,0) -> Bao | F16: Xuất cho trường tiểu học Hương Khê | H16: 2
A17: 12 | C17: GA | D17: =VLOOKUP(C17,'Tồn kho tháng 5'!$C$4:$D$13,2,0) -> Gạo | E17: =VLOOKUP(C17,'Tồn kho tháng 5'!$C$4:$E$13,3,0) -> kg | F17: Xuất kho nồi cháo tháng 7 | H17: 50
A18: 13 | C18: DA | D18: =VLOOKUP(C18,'Tồn kho tháng 5'!$C$4:$D$13,2,0) -> Dầu ăn | E18: =VLOOKUP(C18,'Tồn kho tháng 5'!$C$4:$E$13,3,0) -> lít | F18: Xuất kho nồi cháo tháng 7 | H18: 2
A19: 14 | C19: BC | D19: =VLOOKUP(C19,'Tồn kho tháng 5'!$C$4:$D$13,2,0) -> Bột canh | E19: =VLOOKUP(C19,'Tồn kho tháng 5'!$C$4:$E$13,3,0) -> Gói | F19: Xuất kho nồi cháo tháng 7 | H19: 10
A20: 15 | C20: BN | D20: =VLOOKUP(C20,'Tồn kho tháng 5'!$C$4:$D$13,2,0) -> Bột ngọt | E20: =VLOOKUP(C20,'Tồn kho tháng 5'!$C$4:$E$13,3,0) -> Gói | F20: Xuất kho nồi cháo tháng 7 | H20: 1
A21: 16 | C21: NM | D21: =VLOOKUP(C21,'Tồn kho tháng 5'!$C$4:$D$13,2,0) -> Nước mắm | E21: =VLOOKUP(C21,'Tồn kho tháng 5'!$C$4:$E$13,3,0) -> lít | F21: Xuất kho nồi cháo tháng 7 | H21: 2
A22: 17 | C22: DA | D22: =VLOOKUP(C22,'Tồn kho tháng 5'!$C$4:$D$13,2,0) -> Dầu ăn | E22: =VLOOKUP(C22,'Tồn kho tháng 5'!$C$4:$E$13,3,0) -> lít | F22: Xuất kho nồi xôi tháng 7 | H22: 2
A23: 18 | C23: BC | D23: =VLOOKUP(C23,'Tồn kho tháng 5'!$C$4:$D$13,2,0) -> Bột canh | E23: =VLOOKUP(C23,'Tồn kho tháng 5'!$C$4:$E$13,3,0) -> Gói | F23: Xuất kho nồi xôi tháng 7 | H23: 5
A24: 19 | C24: BN | D24: =VLOOKUP(C24,'Tồn kho tháng 5'!$C$4:$D$13,2,0) -> Bột ngọt | E24: =VLOOKUP(C24,'Tồn kho tháng 5'!$C$4:$E$13,3,0) -> Gói | F24: Xuất kho nồi xôi tháng 7 | H24: 1
A25: 20 | C25: NM | D25: =VLOOKUP(C25,'Tồn kho tháng 5'!$C$4:$D$13,2,0) -> Nước mắm | E25: =VLOOKUP(C25,'Tồn kho tháng 5'!$C$4:$E$13,3,0) -> lít | F25: Xuất kho nồi xôi tháng 7 | H25: 2
A26: 21 | C26: GA | D26: =VLOOKUP(C26,'Tồn kho tháng 5'!$C$4:$D$13,2,0) -> Gạo | E26: =VLOOKUP(C26,'Tồn kho tháng 5'!$C$4:$E$13,3,0) -> kg | F26: Xuất CMTX tháng 07 chị Định | H26: 15
A27: 22 | C27: BN | D27: =VLOOKUP(C27,'Tồn kho tháng 5'!$C$4:$D$13,2,0) -> Bột ngọt | E27: =VLOOKUP(C27,'Tồn kho tháng 5'!$C$4:$E$13,3,0) -> Gói | F27: Xuất CMTX tháng 07 chị Định | H27: 1
A28: 23 | C28: BC | D28: =VLOOKUP(C28,'Tồn kho tháng 5'!$C$4:$D$13,2,0) -> Bột canh | E28: =VLOOKUP(C28,'Tồn kho tháng 5'!$C$4:$E$13,3,0) -> Gói | F28: Xuất CMTX tháng 07 chị Định | H28: 2
... A31: 26 | C31: NM | D31: =VLOOKUP(C31,'Tồn kho tháng 5'!$C$4:$D$13,2,0) -> Nước mắm | E31: =VLOOKUP(C31,'Tồn kho tháng 5'!$C$4:$E$13,3,0) -> lít | F31: Xuất CMTX tháng 07 chị Định | H31: 1
A32: 27 | C32: MT | D32: =VLOOKUP(C32,'Tồn kho tháng 5'!$C$13:$D$14,2,0) -> Mỳ tôm | E32: =VLOOKUP(C32,'Tồn kho tháng 5'!$C$13:$E$14,3,0) -> Gói | F32: Xuất CMTX tháng 07 chị Định | H32: 10
A33: 28 | C33: GA | D33: =VLOOKUP(C33,'Tồn kho tháng 5'!$C$4:$D$13,2,0) -> Gạo | E33: =VLOOKUP(C33,'Tồn kho tháng 5'!$C$4:$E$13,3,0) -> kg | F33: Xuất CMTX tháng 07chị Vĩnh | H33: 20
A34: 29 | C34: BN | D34: =VLOOKUP(C34,'Tồn kho tháng 5'!$C$4:$D$13,2,0) -> Bột ngọt | E34: =VLOOKUP(C34,'Tồn kho tháng 5'!$C$4:$E$13,3,0) -> Gói | F34: Xuất CMTX tháng 07chị Vĩnh | H34: 1
A35: 30 | C35: BC | D35: =VLOOKUP(C35,'Tồn kho tháng 5'!$C$4:$D$13,2,0) -> Bột canh | E35: =VLOOKUP(C35,'Tồn kho tháng 5'!$C$4:$E$13,3,0) -> Gói | F35: Xuất CMTX tháng 07chị Vĩnh | H35: 2
A36: 31 | C36: DU | D36: =VLOOKUP(C36,'Tồn kho tháng 5'!$C$4:$D$13,2,0) -> Đường | E36: =VLOOKUP(C36,'Tồn kho tháng 5'!$C$4:$E$13,3,0) -> kg | F36: Xuất CMTX tháng 07 chị Vĩnh | H36: 1
A37: 32 | C37: DA | D37: =VLOOKUP(C37,'Tồn kho tháng 5'!$C$4:$D$13,2,0) -> Dầu ăn | E37: =VLOOKUP(C37,'Tồn kho tháng 5'!$C$4:$E$13,3,0) -> lít | F37: Xuất CMTX tháng 07 chị Vĩnh | H37: 1
A38: 33 | C38: NM | D38: =VLOOKUP(C38,'Tồn kho tháng 5'!$C$4:$D$13,2,0) -> Nước mắm | E38: =VLOOKUP(C38,'Tồn kho tháng 5'!$C$4:$E$13,3,0) -> lít | F38: Xuất CMTX tháng 07 chị Vĩnh | H38: 1
A39: 34 | C39: MT | D39: =VLOOKUP(C39,'Tồn kho tháng 5'!$C$13:$D$14,2,0) -> Mỳ tôm | E39: =VLOOKUP(C39,'Tồn kho tháng 5'!$C$13:$E$14,3,0) -> Gói | F39: Xuất CMTX tháng 07 chị Vĩnh | H39: 10
A40: 35 | C40: GA | D40: =VLOOKUP(C40,'Tồn kho tháng 5'!$C$4:$D$13,2,0) -> Gạo | E40: =VLOOKUP(C40,'Tồn kho tháng 5'!$C$4:$E$13,3,0) -> kg | F40: Xuất CMTX tháng 07 o Lý | H40: 10
A41: 36 | C41: DA | D41: =VLOOKUP(C41,'Tồn kho tháng 5'!$C$4:$D$13,2,0) -> Dầu ăn | E41: =VLOOKUP(C41,'Tồn kho tháng 5'!$C$4:$E$13,3,0) -> lít | F41: Xuất CMTX tháng 07 o Lý | H41: 1
A42: 37 | C42: GA | D42: =VLOOKUP(C42,'Tồn kho tháng 5'!$C$4:$D$13,2,0) -> Gạo | E42: =VLOOKUP(C42,'Tồn kho tháng 5'!$C$4:$E$13,3,0) -> kg | F42: Xuất CMTX tháng 07 anh Thái | H42: 15
A43: 38 | C43: BN | D43: =VLOOKUP(C43,'Tồn kho tháng 5'!$C$4:$D$13,2,0) -> Bột ngọt | E43: =VLOOKUP(C43,'Tồn kho tháng 5'!$C$4:$E$13,3,0) -> Gói | F43: Xuất CMTX tháng 07 anh Thái | H43: 1
A44: 39 | C44: BC | D44: =VLOOKUP(C44,'Tồn kho tháng 5'!$C$4:$D$13,2,0) -> Bột canh | E44: =VLOOKUP(C44,'Tồn kho tháng 5'!$C$4:$E$13,3,0) -> Gói | F44: Xuất CMTX tháng 07 anh Thái | H44: 2
A45: 40 | C45: DU | D45: =VLOOKUP(C45,'Tồn kho tháng 5'!$C$4:$D$13,2,0) -> Đường | E45: =VLOOKUP(C45,'Tồn kho tháng 5'!$C$4:$E$13,3,0) -> kg | F45: Xuất CMTX tháng 07 anh Thái | H45: 1
A46: 41 | C46: DA | D46: =VLOOKUP(C46,'Tồn kho tháng 5'!$C$4:$D$13,2,0) -> Dầu ăn | E46: =VLOOKUP(C46,'Tồn kho tháng 5'!$C$4:$E$13,3,0) -> lít | F46: Xuất CMTX tháng 07 anh Thái | H46: 1
A47: 42 | C47: NM | D47: =VLOOKUP(C47,'Tồn kho tháng 5'!$C$4:$D$13,2,0) -> Nước mắm | E47: =VLOOKUP(C47,'Tồn kho tháng 5'!$C$4:$E$13,3,0) -> lít | F47: Xuất CMTX tháng 07 anh Thái | H47: 1
A48: 43 | C48: MT | D48: =VLOOKUP(C48,'Tồn kho tháng 5'!$C$13:$D$14,2,0) -> Mỳ tôm | E48: =VLOOKUP(C48,'Tồn kho tháng 5'!$C$13:$E$14,3,0) -> Gói | F48: Xuất CMTX tháng 07 anh Thái | H48: 10
A49: 44 | C49: GA | D49: =VLOOKUP(C49,'Tồn kho tháng 5'!$C$4:$D$13,2,0) -> Gạo | E49: =VLOOKUP(C49,'Tồn kho tháng 5'!$C$4:$E$13,3,0) -> kg | F49: Xuất CMTX tháng 07 anh Liệu | H49: 15
A50: 45 | C50: BN | D50: =VLOOKUP(C50,'Tồn kho tháng 5'!$C$4:$D$13,2,0) -> Bột ngọt | E50: =VLOOKUP(C50,'Tồn kho tháng 5'!$C$4:$E$13,3,0) -> Gói | F50: Xuất CMTX tháng 07 anh Liệu | H50: 1
A51: 46 | C51: BC | D51: =VLOOKUP(C51,'Tồn kho tháng 5'!$C$4:$D$13,2,0) -> Bột canh | E51: =VLOOKUP(C51,'Tồn kho tháng 5'!$C$4:$E$13,3,0) -> Gói | F51: Xuất CMTX tháng 07 anh Liệu | H51: 2
A52: 47 | C52: DU | D52: =VLOOKUP(C52,'Tồn kho tháng 5'!$C$4:$D$13,2,0) -> Đường | E52: =VLOOKUP(C52,'Tồn kho tháng 5'!$C$4:$E$13,3,0) -> kg | F52: Xuất CMTX tháng 07 anh Liệu | H52: 1
A53: 48 | C53: DA | D53: =VLOOKUP(C53,'Tồn kho tháng 5'!$C$4:$D$13,2,0) -> Dầu ăn | E53: =VLOOKUP(C53,'Tồn kho tháng 5'!$C$4:$E$13,3,0) -> lít | F53: Xuất CMTX tháng 07 anh Liệu | H53: 1
A54: 49 | C54: NM | D54: =VLOOKUP(C54,'Tồn kho tháng 5'!$C$4:$D$13,2,0) -> Nước mắm | E54: =VLOOKUP(C54,'Tồn kho tháng 5'!$C$4:$E$13,3,0) -> lít | F54: Xuất CMTX tháng 07 anh Liệu | H54: 1
A55: 50 | C55: MT | D55: =VLOOKUP(C55,'Tồn kho tháng 5'!$C$13:$D$14,2,0) -> Mỳ tôm | E55: =VLOOKUP(C55,'Tồn kho tháng 5'!$C$13:$E$14,3,0) -> Gói | F55: Xuất CMTX tháng 07 anh Liệu | H55: 10
A56: 51 | C56: GA | D56: =VLOOKUP(C56,'Tồn kho tháng 5'!$C$4:$D$13,2,0) -> Gạo | E56: =VLOOKUP(C56,'Tồn kho tháng 5'!$C$4:$E$13,3,0) -> kg | F56: Xuất CMTX tháng 07 Vợ A Đào | H56: 15
A57: 52 | C57: BN | D57: =VLOOKUP(C57,'Tồn kho tháng 5'!$C$4:$D$13,2,0) -> Bột ngọt | E57: =VLOOKUP(C57,'Tồn kho tháng 5'!$C$4:$E$13,3,0) -> Gói | F57: Xuất CMTX tháng 07 Vợ A Đào | H57: 1
A58: 53 | C58: BC | D58: =VLOOKUP(C58,'Tồn kho tháng 5'!$C$4:$D$13,2,0) -> Bột canh | E58: =VLOOKUP(C58,'Tồn kho tháng 5'!$C$4:$E$13,3,0) -> Gói | F58: Xuất CMTX tháng 07 Vợ A Đào | H58: 2
A59: 54 | C59: DU | D59: =VLOOKUP(C59,'Tồn kho tháng 5'!$C$4:$D$13,2,0) -> Đường | E59: =VLOOKUP(C59,'Tồn kho tháng 5'!$C$4:$E$13,3,0) -> kg | F59: Xuất CMTX tháng 07 Vợ A Đào | H59: 1
A60: 55 | C60: DA | D60: =VLOOKUP(C60,'Tồn kho tháng 5'!$C$4:$D$13,2,0) -> Dầu ăn | E60: =VLOOKUP(C60,'Tồn kho tháng 5'!$C$4:$E$13,3,0) -> lít | F60: Xuất CMTX tháng 07 Vợ A Đào | H60: 1
A61: 56 | C61: NM | D61: =VLOOKUP(C61,'Tồn kho tháng 5'!$C$4:$D$13,2,0) -> Nước mắm | E61: =VLOOKUP(C61,'Tồn kho tháng 5'!$C$4:$E$13,3,0) -> lít | F61: Xuất CMTX tháng 07 Vợ A Đào | H61: 1
A62: 57 | C62: MT | D62: =VLOOKUP(C62,'Tồn kho tháng 5'!$C$13:$D$14,2,0) -> Mỳ tôm | E62: =VLOOKUP(C62,'Tồn kho tháng 5'!$C$13:$E$14,3,0) -> Gói | F62: Xuất CMTX tháng 07 Vợ A Đào | H62: 10
A63: 58 | C63: GA | D63: =VLOOKUP(C63,'Tồn kho tháng 5'!$C$4:$D$13,2,0) -> Gạo | E63: =VLOOKUP(C63,'Tồn kho tháng 5'!$C$4:$E$13,3,0) -> kg | F63: Xuất CMTX tháng 07 Chị Liên | H63: 15
A64: 59 | C64: GA | D64: =VLOOKUP(C64,'Tồn kho tháng 5'!$C$4:$D$13,2,0) -> Gạo | E64: =VLOOKUP(C64,'Tồn kho tháng 5'!$C$4:$E$13,3,0) -> kg | F64: Xuất CMTX tháng 07 Anh Ánh | H64: 20
A65: 60 | C65: BN | D65: =VLOOKUP(C65,'Tồn kho tháng 5'!$C$4:$D$13,2,0) -> Bột ngọt | E65: =VLOOKUP(C65,'Tồn kho tháng 5'!$C$4:$E$13,3,0) -> Gói | F65: Xuất CMTX tháng 07 Anh Ánh | H65: 1
A66: 61 | C66: BC | D66: =VLOOKUP(C66,'Tồn kho tháng 5'!$C$4:$D$13,2,0) -> Bột canh | E66: =VLOOKUP(C66,'Tồn kho tháng 5'!$C$4:$E$13,3,0) -> Gói | F66: Xuất CMTX tháng 07 Anh Ánh | H66: 2
A67: 62 | C67: DU | D67: =VLOOKUP(C67,'Tồn kho tháng 5'!$C$4:$D$13,2,0) -> Đường | E67: =VLOOKUP(C67,'Tồn kho tháng 5'!$C$4:$E$13,3,0) -> kg | F67: Xuất CMTX tháng 07 Anh Ánh | H67: 1
A68: 63 | C68: DA | D68: =VLOOKUP(C68,'Tồn kho tháng 5'!$C$4:$D$13,2,0) -> Dầu ăn | E68: =VLOOKUP(C68,'Tồn kho tháng 5'!$C$4:$E$13,3,0) -> lít | F68: Xuất CMTX tháng 07 Anh Ánh | H68: 1
A69: 64 | C69: NM | D69: =VLOOKUP(C69,'Tồn kho tháng 5'!$C$4:$D$13,2,0) -> Nước mắm | E69: =VLOOKUP(C69,'Tồn kho tháng 5'!$C$4:$E$13,3,0) -> lít | F69: Xuất CMTX tháng 07 Anh Ánh | H69: 1
A70: 65 | C70: SB | D70: =VLOOKUP(C70,'Tồn kho tháng 5'!$C$13:$D$15,2,0) -> Sữa bột | E70: =VLOOKUP(C70,'Tồn kho tháng 5'!$C$13:$E$15,3,0) -> Hộp | F70: Xuất CMTX tháng 07 Anh Ánh | H70: 1
A71: 66 | C71: MT | D71: =VLOOKUP(C71,'Tồn kho tháng 5'!$C$13:$D$14,2,0) -> Mỳ tôm | E71: =VLOOKUP(C71,'Tồn kho tháng 5'!$C$13:$E$14,3,0) -> Gói | F71: Xuất CMTX tháng 07 Anh Ánh | H71: 10
A72: 67 | C72: GA | D72: =VLOOKUP(C72,'Tồn kho tháng 5'!$C$4:$D$13,2,0) -> Gạo | E72: =VLOOKUP(C72,'Tồn kho tháng 5'!$C$4:$E$13,3,0) -> kg | F72: Xuất CMTX tháng 07 Chị Duyên | H72: 20
A73: 68 | C73: BN | D73: =VLOOKUP(C73,'Tồn kho tháng 5'!$C$4:$D$13,2,0) -> Bột ngọt | E73: =VLOOKUP(C73,'Tồn kho tháng 5'!$C$4:$E$13,3,0) -> Gói | F73: Xuất CMTX tháng 07 Chị Duyên | H73: 1
A74: 69 | C74: BC | D74: =VLOOKUP(C74,'Tồn kho tháng 5'!$C$4:$D$13,2,0) -> Bột canh | E74: =VLOOKUP(C74,'Tồn kho tháng 5'!$C$4:$E$13,3,0) -> Gói | F74: Xuất CMTX tháng 07 Chị Duyên | H74: 2
A75: 70 | C75: DU | D75: =VLOOKUP(C75,'Tồn kho tháng 5'!$C$4:$D$13,2,0) -> Đường | E75: =VLOOKUP(C75,'Tồn kho tháng 5'!$C$4:$E$13,3,0) -> kg | F75: Xuất CMTX tháng 07 Chị Duyên | H75: 1
A76: 71 | C76: DA | D76: =VLOOKUP(C76,'Tồn kho tháng 5'!$C$4:$D$13,2,0) -> Dầu ăn | E76: =VLOOKUP(C76,'Tồn kho tháng 5'!$C$4:$E$13,3,0) -> lít | F76: Xuất CMTX tháng 07 Chị Duyên | H76: 1
A77: 72 | C77: NM | D77: =VLOOKUP(C77,'Tồn kho tháng 5'!$C$4:$D$13,2,0) -> Nước mắm | E77: =VLOOKUP(C77,'Tồn kho tháng 5'!$C$4:$E$13,3,0) -> lít | F77: Xuất CMTX tháng 07 Chị Duyên | H77: 1
A78: 73 | C78: SB | D78: =VLOOKUP(C78,'Tồn kho tháng 5'!$C$13:$D$15,2,0) -> Sữa bột | E78: =VLOOKUP(C78,'Tồn kho tháng 5'!$C$13:$E$15,3,0) -> Hộp | F78: Xuất CMTX tháng 07 Chị Duyên | H78: 1
A79: 74 | C79: MT | D79: =VLOOKUP(C79,'Tồn kho tháng 5'!$C$13:$D$14,2,0) -> Mỳ tôm | E79: =VLOOKUP(C79,'Tồn kho tháng 5'!$C$13:$E$14,3,0) -> Gói | F79: Xuất CMTX tháng 07 Chị Duyên | H79: 10
A80: 75 | C80: GA | D80: =VLOOKUP(C80,'Tồn kho tháng 5'!$C$4:$D$13,2,0) -> Gạo | E80: =VLOOKUP(C80,'Tồn kho tháng 5'!$C$4:$E$13,3,0) -> kg | F80: Xuất CMTX tháng 07 cháu Phương | H80: 10
A81: 76 | C81: BN | D81: =VLOOKUP(C81,'Tồn kho tháng 5'!$C$4:$D$13,2,0) -> Bột ngọt | E81: =VLOOKUP(C81,'Tồn kho tháng 5'!$C$4:$E$13,3,0) -> Gói | F81: Xuất CMTX tháng 07 cháu Phương | H81: 1
A82: 77 | C82: BC | D82: =VLOOKUP(C82,'Tồn kho tháng 5'!$C$4:$D$13,2,0) -> Bột canh | E82: =VLOOKUP(C82,'Tồn kho tháng 5'!$C$4:$E$13,3,0) -> Gói | F82: Xuất CMTX tháng 07 cháu Phương | H82: 1
A83: 78 | C83: DA | D83: =VLOOKUP(C83,'Tồn kho tháng 5'!$C$4:$D$13,2,0) -> Dầu ăn | E83: =VLOOKUP(C83,'Tồn kho tháng 5'!$C$4:$E$13,3,0) -> lít | F83: Xuất CMTX tháng 07 cháu Phương | H83: 1
A84: 79 | C84: NM | D84: =VLOOKUP(C84,'Tồn kho tháng 5'!$C$4:$D$13,2,0) -> Nước mắm | E84: =VLOOKUP(C84,'Tồn kho tháng 5'!$C$4:$E$13,3,0) -> lít | F84: Xuất CMTX tháng 07 cháu Phương | H84: 1
A85: 80 | C85: MT | D85: =VLOOKUP(C85,'Tồn kho tháng 5'!$C$13:$D$14,2,0) -> Mỳ tôm | E85: =VLOOKUP(C85,'Tồn kho tháng 5'!$C$13:$E$14,3,0) -> Gói | F85: Xuất CMTX tháng 07 cháu Phương | H85: 10
A86: 81 | C86: GA | D86: =VLOOKUP(C86,'Tồn kho tháng 5'!$C$4:$D$13,2,0) -> Gạo | E86: =VLOOKUP(C86,'Tồn kho tháng 5'!$C$4:$E$13,3,0) -> kg | F86: Xuất CMTX tháng 07 bà Nhường | H86: 10
A87: 82 | C87: DA | D87: =VLOOKUP(C87,'Tồn kho tháng 5'!$C$4:$D$13,2,0) -> Dầu ăn | E87: =VLOOKUP(C87,'Tồn kho tháng 5'!$C$4:$E$13,3,0) -> lít | F87: Xuất CMTX tháng 07 bà Nhường | H87: 1
A88: 83 | C88: GA | D88: =VLOOKUP(C88,'Tồn kho tháng 5'!$C$4:$D$13,2,0) -> Gạo | E88: =VLOOKUP(C88,'Tồn kho tháng 5'!$C$4:$E$13,3,0) -> kg | F88: Xuất CMTX tháng 07 Anh Dũng | H88: 20
A89: 84 | C89: BN | D89: =VLOOKUP(C89,'Tồn kho tháng 5'!$C$4:$D$13,2,0) -> Bột ngọt | E89: =VLOOKUP(C89,'Tồn kho tháng 5'!$C$4:$E$13,3,0) -> Gói | F89: Xuất CMTX tháng 07 Anh Dũng | H89: 1
A90: 85 | C90: BC | D90: =VLOOKUP(C90,'Tồn kho tháng 5'!$C$4:$D$13,2,0) -> Bột canh | E90: =VLOOKUP(C90,'Tồn kho tháng 5'!$C$4:$E$13,3,0) -> Gói | F90: Xuất CMTX tháng 07 Anh Dũng | H90: 2
A91: 86 | C91: SB | D91: =VLOOKUP(C91,'Tồn kho tháng 5'!$C$13:$D$15,2,0) -> Sữa bột | E91: =VLOOKUP(C91,'Tồn kho tháng 5'!$C$13:$E$15,3,0) -> Hộp | F91: Xuất CMTX tháng 07 Anh Dũng | H91: 1
A92: 87 | C92: DU | D92: =VLOOKUP(C92,'Tồn kho tháng 5'!$C$4:$D$13,2,0) -> Đường | E92: =VLOOKUP(C92,'Tồn kho tháng 5'!$C$4:$E$13,3,0) -> kg | F92: Xuất CMTX tháng 07 Anh Dũng | H92: 1
A93: 88 | C93: DA | D93: =VLOOKUP(C93,'Tồn kho tháng 5'!$C$4:$D$13,2,0) -> Dầu ăn | E93: =VLOOKUP(C93,'Tồn kho tháng 5'!$C$4:$E$13,3,0) -> lít | F93: Xuất CMTX tháng 07 Anh Dũng | H93: 1
A94: 89 | C94: NM | D94: =VLOOKUP(C94,'Tồn kho tháng 5'!$C$4:$D$13,2,0) -> Nước mắm | E94: =VLOOKUP(C94,'Tồn kho tháng 5'!$C$4:$E$13,3,0) -> lít | F94: Xuất CMTX tháng 07 Anh Dũng | H94: 1
A95: 90 | C95: SB | D95: =VLOOKUP(C95,'Tồn kho tháng 5'!$C$13:$D$15,2,0) -> Sữa bột | E95: =VLOOKUP(C95,'Tồn kho tháng 5'!$C$13:$E$15,3,0) -> Hộp | F95: Xuất CMTX tháng 07 Anh Dũng | H95: 1
A96: 91 | C96: MT | D96: =VLOOKUP(C96,'Tồn kho tháng 5'!$C$13:$D$14,2,0) -> Mỳ tôm | E96: =VLOOKUP(C96,'Tồn kho tháng 5'!$C$13:$E$14,3,0) -> Gói | F96: Xuất CMTX tháng 07 Anh Dũng | H96: 10
A97: 92 | C97: GA | D97: =VLOOKUP(C97,'Tồn kho tháng 5'!$C$4:$D$13,2,0) -> Gạo | E97: =VLOOKUP(C97,'Tồn kho tháng 5'!$C$4:$E$13,3,0) -> kg | F97: Xuất CMTX tháng 07 cháu Toàn | H97: 10
A98: 93 | C98: BN | D98: =VLOOKUP(C98,'Tồn kho tháng 5'!$C$4:$D$13,2,0) -> Bột ngọt | E98: =VLOOKUP(C98,'Tồn kho tháng 5'!$C$4:$E$13,3,0) -> Gói | F98: Xuất CMTX tháng 07 cháu Toàn | H98: 1
A99: 94 | C99: SB | D99: =VLOOKUP(C99,'Tồn kho tháng 5'!$C$13:$D$15,2,0) -> Sữa bột | E99: =VLOOKUP(C99,'Tồn kho tháng 5'!$C$13:$E$15,3,0) -> Hộp | F99: Xuất CMTX tháng 07 cháu Toàn | H99: 1
A100: 95 | C100: BC | D100: =VLOOKUP(C100,'Tồn kho tháng 5'!$C$4:$D$13,2,0) -> Bột canh | E100: =VLOOKUP(C100,'Tồn kho tháng 5'!$C$4:$E$13,3,0) -> Gói | F100: Xuất CMTX tháng 07 cháu Toàn | H100: 1
A101: 96 | C101: DU | D101: =VLOOKUP(C101,'Tồn kho tháng 5'!$C$4:$D$13,2,0) -> Đường | E101: =VLOOKUP(C101,'Tồn kho tháng 5'!$C$4:$E$13,3,0) -> kg | F101: Xuất CMTX tháng 07 cháu Toàn | H101: 1
A102: 97 | C102: DA | D102: =VLOOKUP(C102,'Tồn kho tháng 5'!$C$4:$D$13,2,0) -> Dầu ăn | E102: =VLOOKUP(C102,'Tồn kho tháng 5'!$C$4:$E$13,3,0) -> lít | F102: Xuất CMTX tháng 07 cháu Toàn | H102: 1
A103: 98 | C103: NM | D103: =VLOOKUP(C103,'Tồn kho tháng 5'!$C$4:$D$13,2,0) -> Nước mắm | E103: =VLOOKUP(C103,'Tồn kho tháng 5'!$C$4:$E$13,3,0) -> lít | F103: Xuất CMTX tháng 07 cháu Toàn | H103: 1
...

Sheet Phân loại
B3: BẢNG THỐNG KÊ SỐ LƯỢNG TỪNG LOẠI SẢN PHẨM
B6: Tên SP | C6: Dầu ăn | E6: Nước mắm | G6: Nước tương | I6: Bột canh | K6: Hạt nêm | O6: Bột ngọt | Q6: Muối | S6: Đường
B7: Loại | C7: 1000ml | D7: 2000ml | E7: 500ml | F7: 900ml | G7: 200ml | H7: 500ml | I7: 195gr | J7: 230gr | K7: 200gr | L7: 400gr | M7: 900gr | N7: 2000gr | O7: 454gr | P7: 1000gr | Q7: 500gr | R7: 1000gr | S7: 500gr | T7: 1000gr
B8: Số lượng

Sheet Tổng hợp Xuất - Nhập - Tồn
A1: KHO HÀNG TẠI
A3: BẢNG TỔNG HỢP NHẬP- XUẤT - TỒN NGUYÊN VẬT LIỆU
A4: Tháng 7/2017
D5: HH001
A6: Stt | B6: Mã HH | C6: Tên vật liệu, sản phẩm, hàng hóa | D6: Qui cách | E6: Đvt | F6: Dư đầu kỳ | G6: Tổng nhập trong kỳ | H6: Tổng xuất trong kỳ | I6: Dư cuối kỳ | J6: Ghi chú
A8: 1 | B8: GA | C8: Gạo | D8: =VLOOKUP('[1]Tổng hợp'!B10,'[1]Nguyên vật liệu'!$A$5:$F$21,2,0) -> #N/A | E8: kg | F8: =VLOOKUP(B8,'Tồn kho tháng 5'!$C$4:$F$13,4,0) -> 0 | G8: =SUMIF('Nhật kí Xuất - Nhập kho'!$D$6:$D$189,"Gạo",'Nhật kí Xuất - Nhập kho'!$G$6:$G$189) -> 600 | H8: =SUMIF('Nhật kí Xuất - Nhập kho'!$D$6:$D$189,"Gạo",'Nhật kí Xuất - Nhập kho'!$H$6:$H$189) -> 475 | I8: =F8+G8-H8 -> 125
A9: 2 | B9: DA | C9: Dầu ăn | E9: lít | F9: =VLOOKUP(B9,'Tồn kho tháng 5'!$C$4:$F$13,4,0) -> 0 | G9: =SUMIF('Nhật kí Xuất - Nhập kho'!$D$6:$D$189,"Dầu ăn",'Nhật kí Xuất - Nhập kho'!$G$6:$G$189) -> 33 | H9: =SUMIF('Nhật kí Xuất - Nhập kho'!$D$6:$D$189,"Dầu ăn",'Nhật kí Xuất - Nhập kho'!$H$6:$H$189) -> 30 | I9: =F9+G9-H9 -> 3
A10: 3 | B10: NM | C10: Nước mắm | E10: lít | F10: =VLOOKUP(B10,'Tồn kho tháng 5'!$C$4:$F$13,4,0) -> 0 | G10: =SUMIF('Nhật kí Xuất - Nhập kho'!$D$6:$D$189,"Nước mắm",'Nhật kí Xuất - Nhập kho'!$G$6:$G$189) -> 30 | H10: =SUMIF('Nhật kí Xuất - Nhập kho'!$D$6:$D$189,"Nước mắm",'Nhật kí Xuất - Nhập kho'!$H$6:$H$189) -> 28 | I10: =F10+G10-H10 -> 2
A11: 4 | B11: NT | C11: Nước tương | E11: lit | F11: =VLOOKUP(B11,'Tồn kho tháng 5'!$C$4:$F$13,4,0) -> 0 | G11: =SUMIF('Nhật kí Xuất - Nhập kho'!$D$6:$D$189,"Nước tương",'Nhật kí Xuất - Nhập kho'!$G$6:$G$189) -> 0 | H11: =SUMIF('Nhật kí Xuất - Nhập kho'!$D$6:$D$189,"Nước tương",'Nhật kí Xuất - Nhập kho'!$H$6:$H$189) -> 0 | I11: =F11+G11-H11 -> 0
A12: 5 | B12: BC | C12: Bột canh | E12: Gói | F12: =VLOOKUP(B12,'Tồn kho tháng 5'!$C$4:$F$13,4,0) -> 52 | G12: =SUMIF('Nhật kí Xuất - Nhập kho'!$D$6:$D$189,"Bột canh",'Nhật kí Xuất - Nhập kho'!$G$6:$G$189) -> 0 | H12: =SUMIF('Nhật kí Xuất - Nhập kho'!$D$6:$D$189,"Bột canh",'Nhật kí Xuất - Nhập kho'!$H$6:$H$189) -> 52 | I12: =F12+G12-H12 -> 0
A13: 6 | B13: HN | C13: Hạt nêm | E13: kg | F13: =VLOOKUP(B13,'Tồn kho tháng 5'!$C$4:$F$13,4,0) -> 0 | G13: =SUMIF('Nhật kí Xuất - Nhập kho'!$D$6:$D$189,"Hạt nêm",'Nhật kí Xuất - Nhập kho'!$G$6:$G$189) -> 0 | H13: =SUMIF('Nhật kí Xuất - Nhập kho'!$D$6:$D$189,"Hạt nêm",'Nhật kí Xuất - Nhập kho'!$H$6:$H$189) -> 0 | I13: =F13+G13-H13 -> 0
A14: 7 | B14: BN | C14: Bột ngọt | E14: kg | F14: =VLOOKUP(B14,'Tồn kho tháng 5'!$C$4:$F$13,4,0) -> 0 | G14: =SUMIF('Nhật kí Xuất - Nhập kho'!$D$6:$D$189,"Bột ngọt",'Nhật kí Xuất - Nhập kho'!$G$6:$G$189) -> 15 | H14: =SUMIF('Nhật kí Xuất - Nhập kho'!$D$6:$D$189,"Bột ngọt",'Nhật kí Xuất - Nhập kho'!$H$6:$H$189) -> 15 | I14: =F14+G14-H14 -> 0
A15: 8 | B15: MU | C15: Muối | E15: kg | F15: =VLOOKUP(B15,'Tồn kho tháng 5'!$C$4:$F$13,4,0) -> 0 | G15: =SUMIF('Nhật kí Xuất - Nhập kho'!$D$6:$D$189,"Muối",'Nhật kí Xuất - Nhập kho'!$G$6:$G$189) -> 0 | H15: =SUMIF('Nhật kí Xuất - Nhập kho'!$D$6:$D$189,"Muối",'Nhật kí Xuất - Nhập kho'!$H$6:$H$189) -> 0 | I15: =F15+G15-H15 -> 0
A16: 9 | B16: DU | C16: Đường | E16: kg | F16: =VLOOKUP(B16,'Tồn kho tháng 5'!$C$4:$F$13,4,0) -> 0 | G16: =SUMIF('Nhật kí Xuất - Nhập kho'!$D$6:$D$189,"Đường",'Nhật kí Xuất - Nhập kho'!$G$6:$G$189) -> 15 | H16: =SUMIF('Nhật kí Xuất - Nhập kho'!$D$6:$D$189,"Đường",'Nhật kí Xuất - Nhập kho'!$H$6:$H$189) -> 15 | I16: =F16+G16-H16 -> 0
A17: 12 | B17: TI | C17: Tiêu | E17: kg | F17: =VLOOKUP(B17,'Tồn kho tháng 5'!$C$4:$F$13,4,0) -> 0 | G17: =SUMIF('Nhật kí Xuất - Nhập kho'!$D$6:$D$189,"Tiêu",'Nhật kí Xuất - Nhập kho'!$G$6:$G$189) -> 0 | H17: =SUMIF('Nhật kí Xuất - Nhập kho'!$D$6:$D$189,"Tiêu",'Nhật kí Xuất - Nhập kho'!$H$6:$H$189) -> 0 | I17: =F17+G17-H17 -> 0
A18: 13 | B18: MT | C18: Mỳ tôm | E18: Gói | F18: =VLOOKUP(B18,'Tồn kho tháng 5'!$C$13:$F$14,4,0) -> 0 | G18: =SUMIF('Nhật kí Xuất - Nhập kho'!$D$7:$D$189,"mỳ tôm",'Nhật kí Xuất - Nhập kho'!$G$7:$G$189) -> 200 | H18: =SUMIF('Nhật kí Xuất - Nhập kho'!$D$6:$D$189,"mỳ tôm",'Nhật kí Xuất - Nhập kho'!$H$6:$H$189) -> 200 | I18: =F18+G18-H18 -> 0
A19: 14 | B19: SB | C19: Sữa bột | E19: Hộp | F19: =VLOOKUP(B19,'Tồn kho tháng 5'!$C$13:$F$15,4,0) -> 0 | G19: =SUMIF('Nhật kí Xuất - Nhập kho'!$D$7:$D$189,"Sữa bột",'Nhật kí Xuất - Nhập kho'!$G$7:$G$189) -> 12 | H19: =SUMIF('Nhật kí Xuất - Nhập kho'!$D$6:$D$189,"sữa bột",'Nhật kí Xuất - Nhập kho'!$H$6:$H$189) -> 12 | I19: =F19+G19-H19 -> 0
A20: 15 | B20: HX | C20: Hộp đựng xôi | E20: Hộp | F20: =VLOOKUP(B20,'Tồn kho tháng 5'!$C$15:$F$16,4,0) -> 0 | G20: =SUMIF('Nhật kí Xuất - Nhập kho'!$D$7:$D$189,"Hộp đựng xôi",'Nhật kí Xuất - Nhập kho'!$G$7:$G$189) -> 2 | H20: =SUMIF('Nhật kí Xuất - Nhập kho'!$D$6:$D$189,"Hộp đựng xôi",'Nhật kí Xuất - Nhập kho'!$H$6:$H$189) -> 2 | I20: =F20+G20-H20 -> 0
A21: 16 | B21: GO | C21: Gối trẻ em | E21: Bao | F21: =VLOOKUP(B21,'Tồn kho tháng 5'!$C$13:$F$17,4,0) -> 0 | G21: =SUMIF('Nhật kí Xuất - Nhập kho'!$D$7:$D$189,"Gối trẻ em",'Nhật kí Xuất - Nhập kho'!$G$7:$G$189) -> 2 | H21: =SUMIF('Nhật kí Xuất - Nhập kho'!$D$6:$D$189,"gối trẻ em",'Nhật kí Xuất - Nhập kho'!$H$6:$H$189) -> 2 | I21: =F21+G21-H21 -> 0
A22: Người lập biểu | D22: Kế toán trưởng
A23: (Ký, họ tên) | D23: (Ký, họ tên)
